BEGIN:VCALENDAR
VERSION:2.0
PRODID:-//cstraining - ECPv6.15.3//NONSGML v1.0//EN
CALSCALE:GREGORIAN
METHOD:PUBLISH
X-WR-CALNAME:cstraining
X-ORIGINAL-URL:https://cstraining.org
X-WR-CALDESC:Events for cstraining
REFRESH-INTERVAL;VALUE=DURATION:PT1H
X-Robots-Tag:noindex
X-PUBLISHED-TTL:PT1H
BEGIN:VTIMEZONE
TZID:America/Halifax
BEGIN:DAYLIGHT
TZOFFSETFROM:-0400
TZOFFSETTO:-0300
TZNAME:ADT
DTSTART:20200308T060000
END:DAYLIGHT
BEGIN:STANDARD
TZOFFSETFROM:-0300
TZOFFSETTO:-0400
TZNAME:AST
DTSTART:20201101T050000
END:STANDARD
BEGIN:DAYLIGHT
TZOFFSETFROM:-0400
TZOFFSETTO:-0300
TZNAME:ADT
DTSTART:20210314T060000
END:DAYLIGHT
BEGIN:STANDARD
TZOFFSETFROM:-0300
TZOFFSETTO:-0400
TZNAME:AST
DTSTART:20211107T050000
END:STANDARD
END:VTIMEZONE
BEGIN:VEVENT
DTSTART;TZID=America/Halifax:20210325T180000
DTEND;TZID=America/Halifax:20210325T220000
DTSTAMP:20260423T170706
CREATED:20201007T074104Z
LAST-MODIFIED:20210312T161052Z
UID:10000052-1616695200-1616709600@cstraining.org
SUMMARY:Scaffolds 4hr Class
DESCRIPTION:
URL:https://cstraining.org/event/scaffolds-4hr-class-4/
LOCATION:CSTraining\, 238 Ferry St.\, Newark\, NJ\, 07105\, United States
CATEGORIES:Scaffolds
END:VEVENT
BEGIN:VEVENT
DTSTART;TZID=America/Halifax:20200910T180000
DTEND;TZID=America/Halifax:20200910T220000
DTSTAMP:20260423T170706
CREATED:20200901T204922Z
LAST-MODIFIED:20200901T205050Z
UID:10000060-1599760800-1599775200@cstraining.org
SUMMARY:Scaffolds 4hr Class
DESCRIPTION:
URL:https://cstraining.org/event/scaffolds-4hr-class-3/
LOCATION:CSTraining\, 238 Ferry St.\, Newark\, NJ\, 07105\, United States
CATEGORIES:Scaffolds
END:VEVENT
BEGIN:VEVENT
DTSTART;TZID=America/Halifax:20200827T170000
DTEND;TZID=America/Halifax:20200827T210000
DTSTAMP:20260423T170706
CREATED:20200803T183639Z
LAST-MODIFIED:20200810T155241Z
UID:10000064-1598547600-1598562000@cstraining.org
SUMMARY:Scaffolds 4hr Class
DESCRIPTION:
URL:https://cstraining.org/event/scaffolds-4hr-class/
LOCATION:CSTraining\, 238 Ferry St.\, Newark\, NJ\, 07105\, United States
CATEGORIES:Scaffolds
END:VEVENT
BEGIN:VEVENT
DTSTART;TZID=America/Halifax:20200731T170000
DTEND;TZID=America/Halifax:20200731T210000
DTSTAMP:20260423T170706
CREATED:20200712T143252Z
LAST-MODIFIED:20200712T150227Z
UID:10000032-1596214800-1596229200@cstraining.org
SUMMARY:Scaffolds 4hr
DESCRIPTION:
URL:https://cstraining.org/event/scaffolds-4hr/
LOCATION:CSTraining\, 238 Ferry St.\, Newark\, NJ\, 07105\, United States
CATEGORIES:Scaffolds
END:VEVENT
END:VCALENDAR