BEGIN:VCALENDAR
VERSION:2.0
PRODID:-//cstraining - ECPv6.15.3//NONSGML v1.0//EN
CALSCALE:GREGORIAN
METHOD:PUBLISH
X-WR-CALNAME:cstraining
X-ORIGINAL-URL:https://cstraining.org
X-WR-CALDESC:Events for cstraining
REFRESH-INTERVAL;VALUE=DURATION:PT1H
X-Robots-Tag:noindex
X-PUBLISHED-TTL:PT1H
BEGIN:VTIMEZONE
TZID:America/Halifax
BEGIN:DAYLIGHT
TZOFFSETFROM:-0400
TZOFFSETTO:-0300
TZNAME:ADT
DTSTART:20210314T060000
END:DAYLIGHT
BEGIN:STANDARD
TZOFFSETFROM:-0300
TZOFFSETTO:-0400
TZNAME:AST
DTSTART:20211107T050000
END:STANDARD
END:VTIMEZONE
BEGIN:VEVENT
DTSTART;TZID=America/Halifax:20210610T180000
DTEND;TZID=America/Halifax:20210610T220000
DTSTAMP:20260425T233453
CREATED:20210519T151748Z
LAST-MODIFIED:20210519T151748Z
UID:10000030-1623348000-1623362400@cstraining.org
SUMMARY:Scaffolds 4hr Class
DESCRIPTION:
URL:https://cstraining.org/event/scaffolds-4hr-class-6/
LOCATION:CSTraining\, 238 Ferry St.\, Newark\, NJ\, 07105\, United States
CATEGORIES:Scaffolds
END:VEVENT
BEGIN:VEVENT
DTSTART;TZID=America/Halifax:20210611T080000
DTEND;TZID=America/Halifax:20210611T160000
DTSTAMP:20260425T233453
CREATED:20210606T185327Z
LAST-MODIFIED:20210606T190516Z
UID:10000003-1623398400-1623427200@cstraining.org
SUMMARY:OSHA-30 + SST 10hr Class (In Spanish)
DESCRIPTION:
URL:https://cstraining.org/event/osha-30-sst-10hr-class-in-spanish/2021-06-11/
LOCATION:CSTraining\, 238 Ferry St.\, Newark\, NJ\, 07105\, United States
CATEGORIES:OSHA Classes
ATTACH;FMTTYPE=image/png:https://cstraining.org/wp-content/uploads/2020/02/SST-Card-e1609951397354.png
ORGANIZER;CN="Cstraining":MAILTO:cstadmin@cstraining.org
END:VEVENT
BEGIN:VEVENT
DTSTART;TZID=America/Halifax:20210612T080000
DTEND;TZID=America/Halifax:20210612T160000
DTSTAMP:20260425T233453
CREATED:20210606T185327Z
LAST-MODIFIED:20210606T190516Z
UID:10000004-1623484800-1623513600@cstraining.org
SUMMARY:OSHA-30 + SST 10hr Class (In Spanish)
DESCRIPTION:
URL:https://cstraining.org/event/osha-30-sst-10hr-class-in-spanish/2021-06-12/
LOCATION:CSTraining\, 238 Ferry St.\, Newark\, NJ\, 07105\, United States
CATEGORIES:OSHA Classes
ATTACH;FMTTYPE=image/png:https://cstraining.org/wp-content/uploads/2020/02/SST-Card-e1609951397354.png
ORGANIZER;CN="Cstraining":MAILTO:cstadmin@cstraining.org
END:VEVENT
BEGIN:VEVENT
DTSTART;TZID=America/Halifax:20210613T080000
DTEND;TZID=America/Halifax:20210613T160000
DTSTAMP:20260425T233453
CREATED:20210606T185327Z
LAST-MODIFIED:20210606T190516Z
UID:10000005-1623571200-1623600000@cstraining.org
SUMMARY:OSHA-30 + SST 10hr Class (In Spanish)
DESCRIPTION:
URL:https://cstraining.org/event/osha-30-sst-10hr-class-in-spanish/2021-06-13/
LOCATION:CSTraining\, 238 Ferry St.\, Newark\, NJ\, 07105\, United States
CATEGORIES:OSHA Classes
ATTACH;FMTTYPE=image/png:https://cstraining.org/wp-content/uploads/2020/02/SST-Card-e1609951397354.png
ORGANIZER;CN="Cstraining":MAILTO:cstadmin@cstraining.org
END:VEVENT
BEGIN:VEVENT
DTSTART;TZID=America/Halifax:20210613T100000
DTEND;TZID=America/Halifax:20210613T150000
DTSTAMP:20260425T233453
CREATED:20210519T151204Z
LAST-MODIFIED:20210519T151204Z
UID:10000023-1623578400-1623596400@cstraining.org
SUMMARY:Forklift Rough Terrain (Spanish/English)
DESCRIPTION:
URL:https://cstraining.org/event/forklift-rough-terrain-spanish-english-6/
LOCATION:CSTraining\, 238 Ferry St.\, Newark\, NJ\, 07105\, United States
CATEGORIES:Forklift Training
END:VEVENT
BEGIN:VEVENT
DTSTART;TZID=America/Halifax:20210626T080000
DTEND;TZID=America/Halifax:20210626T180000
DTSTAMP:20260425T233453
CREATED:20210304T182400Z
LAST-MODIFIED:20210614T021521Z
UID:10000013-1624694400-1624730400@cstraining.org
SUMMARY:SST 10hr Class (In Spanish)
DESCRIPTION:
URL:https://cstraining.org/event/sst-10hr-class-in-spanish-4/
LOCATION:CSTraining\, 238 Ferry St.\, Newark\, NJ\, 07105\, United States
CATEGORIES:OSHA Classes
ORGANIZER;CN="Cstraining":MAILTO:cstadmin@cstraining.org
END:VEVENT
BEGIN:VEVENT
DTSTART;TZID=America/Halifax:20210703T080000
DTEND;TZID=America/Halifax:20210703T180000
DTSTAMP:20260425T233453
CREATED:20210626T171644Z
LAST-MODIFIED:20210626T171644Z
UID:10000006-1625299200-1625335200@cstraining.org
SUMMARY:SST 10hr Class (In Spanish)
DESCRIPTION:
URL:https://cstraining.org/event/sst-10hr-class-in-spanish-11/
LOCATION:CSTraining\, 238 Ferry St.\, Newark\, NJ\, 07105\, United States
CATEGORIES:OSHA Classes
END:VEVENT
BEGIN:VEVENT
DTSTART;TZID=America/Halifax:20210708T180000
DTEND;TZID=America/Halifax:20210708T220000
DTSTAMP:20260425T233453
CREATED:20210419T161526Z
LAST-MODIFIED:20210614T021025Z
UID:10000044-1625767200-1625781600@cstraining.org
SUMMARY:Scaffolds 4hr Class
DESCRIPTION:
URL:https://cstraining.org/event/scaffolds-4hr-class-5/
LOCATION:CSTraining\, 238 Ferry St.\, Newark\, NJ\, 07105\, United States
CATEGORIES:Scaffolds
END:VEVENT
BEGIN:VEVENT
DTSTART;TZID=America/Halifax:20210710T080000
DTEND;TZID=America/Halifax:20210710T150000
DTSTAMP:20260425T233453
CREATED:20210419T162420Z
LAST-MODIFIED:20210614T020859Z
UID:10000061-1625904000-1625929200@cstraining.org
SUMMARY:Introduction to Blueprint Reading class
DESCRIPTION:
URL:https://cstraining.org/event/introduction-to-blueprint-reading-class/
LOCATION:CSTraining\, 238 Ferry St.\, Newark\, NJ\, 07105\, United States
CATEGORIES:Blueprint Reading
END:VEVENT
BEGIN:VEVENT
DTSTART;TZID=America/Halifax:20210711T100000
DTEND;TZID=America/Halifax:20210711T140000
DTSTAMP:20260425T233453
CREATED:20201026T182417Z
LAST-MODIFIED:20210622T142735Z
UID:10000020-1625997600-1626012000@cstraining.org
SUMMARY:Forklift Rough Terrain (Spanish/English)
DESCRIPTION:
URL:https://cstraining.org/event/forklift-rough-terrain-spanish-english-2/
LOCATION:CSTraining\, 238 Ferry St.\, Newark\, NJ\, 07105\, United States
CATEGORIES:Forklift Training
END:VEVENT
BEGIN:VEVENT
DTSTART;TZID=America/Halifax:20210717T080000
DTEND;TZID=America/Halifax:20210717T180000
DTSTAMP:20260425T233453
CREATED:20210715T071221Z
LAST-MODIFIED:20210715T071221Z
UID:10000010-1626508800-1626544800@cstraining.org
SUMMARY:SST 10hr Class (In Spanish)
DESCRIPTION:
URL:https://cstraining.org/event/sst-10hr-class-in-spanish-12/
LOCATION:CSTraining\, 238 Ferry St.\, Newark\, NJ\, 07105\, United States
CATEGORIES:OSHA Classes
END:VEVENT
BEGIN:VEVENT
DTSTART;TZID=America/Halifax:20210724T080000
DTEND;TZID=America/Halifax:20210724T180000
DTSTAMP:20260425T233453
CREATED:20210715T071440Z
LAST-MODIFIED:20210715T071440Z
UID:10000011-1627113600-1627149600@cstraining.org
SUMMARY:SST 10hr Class (In Spanish)
DESCRIPTION:
URL:https://cstraining.org/event/sst-10hr-class-in-spanish-13/
LOCATION:CSTraining\, 238 Ferry St.\, Newark\, NJ\, 07105\, United States
CATEGORIES:OSHA Classes
END:VEVENT
BEGIN:VEVENT
DTSTART;TZID=America/Halifax:20210731T080000
DTEND;TZID=America/Halifax:20210731T180000
DTSTAMP:20260425T233453
CREATED:20210519T152331Z
LAST-MODIFIED:20210715T071616Z
UID:10000001-1627718400-1627754400@cstraining.org
SUMMARY:SST 10hr Class (In Spanish)
DESCRIPTION:
URL:https://cstraining.org/event/sst-10hr-class-in-spanish-9/
LOCATION:CSTraining\, 238 Ferry St.\, Newark\, NJ\, 07105\, United States
CATEGORIES:OSHA Classes
END:VEVENT
BEGIN:VEVENT
DTSTART;TZID=America/Halifax:20210807T080000
DTEND;TZID=America/Halifax:20210807T180000
DTSTAMP:20260425T233453
CREATED:20210806T214255Z
LAST-MODIFIED:20210806T214510Z
UID:10000082-1628323200-1628359200@cstraining.org
SUMMARY:SST 10hr Class (In Spanish)
DESCRIPTION:
URL:https://cstraining.org/event/sst-10hr-class-in-spanish-14/
LOCATION:CSTraining\, 238 Ferry St.\, Newark\, NJ\, 07105\, United States
CATEGORIES:OSHA Classes
END:VEVENT
BEGIN:VEVENT
DTSTART;TZID=America/Halifax:20210814T080000
DTEND;TZID=America/Halifax:20210814T150000
DTSTAMP:20260425T233453
CREATED:20210715T070214Z
LAST-MODIFIED:20210715T070214Z
UID:10000007-1628928000-1628953200@cstraining.org
SUMMARY:Introduction to Blueprint Reading class
DESCRIPTION:
URL:https://cstraining.org/event/introduction-to-blueprint-reading-class-2/
LOCATION:CSTraining\, 238 Ferry St.\, Newark\, NJ\, 07105\, United States
CATEGORIES:Blueprint Reading
END:VEVENT
BEGIN:VEVENT
DTSTART;TZID=America/Halifax:20210815T100000
DTEND;TZID=America/Halifax:20210815T150000
DTSTAMP:20260425T233453
CREATED:20210715T070502Z
LAST-MODIFIED:20210811T191714Z
UID:10000008-1629021600-1629039600@cstraining.org
SUMMARY:Forklift Rough Terrain (Spanish/English)
DESCRIPTION:
URL:https://cstraining.org/event/forklift-rough-terrain-spanish-english-7/
LOCATION:CSTraining\, 238 Ferry St.\, Newark\, NJ\, 07105\, United States
CATEGORIES:Forklift Training
END:VEVENT
BEGIN:VEVENT
DTSTART;TZID=America/Halifax:20210826T180000
DTEND;TZID=America/Halifax:20210826T220000
DTSTAMP:20260425T233453
CREATED:20210715T070943Z
LAST-MODIFIED:20210818T164940Z
UID:10000009-1630000800-1630015200@cstraining.org
SUMMARY:Scaffolds 4hr Class
DESCRIPTION:
URL:https://cstraining.org/event/scaffolds-4hr-class-7/
LOCATION:CSTraining\, 238 Ferry St.\, Newark\, NJ\, 07105\, United States
CATEGORIES:Scaffolds
END:VEVENT
BEGIN:VEVENT
DTSTART;TZID=America/Halifax:20210912T100000
DTEND;TZID=America/Halifax:20210912T150000
DTSTAMP:20260425T233453
CREATED:20210806T213257Z
LAST-MODIFIED:20210806T213257Z
UID:10000012-1631440800-1631458800@cstraining.org
SUMMARY:Forklift Rough Terrain (Spanish/English)
DESCRIPTION:
URL:https://cstraining.org/event/forklift-rough-terrain-spanish-english-8/
LOCATION:CSTraining\, 238 Ferry St.\, Newark\, NJ\, 07105\, United States
CATEGORIES:Forklift Training
END:VEVENT
BEGIN:VEVENT
DTSTART;TZID=America/Halifax:20210918T080000
DTEND;TZID=America/Halifax:20210918T180000
DTSTAMP:20260425T233453
CREATED:20210913T045346Z
LAST-MODIFIED:20210913T045826Z
UID:10000089-1631952000-1631988000@cstraining.org
SUMMARY:SST 10hr Class (In Spanish)
DESCRIPTION:
URL:https://cstraining.org/event/sst-10hr-class-in-spanish-15/
LOCATION:CSTraining\, 238 Ferry St.\, Newark\, NJ\, 07105\, United States
CATEGORIES:OSHA Classes
END:VEVENT
BEGIN:VEVENT
DTSTART;TZID=America/Halifax:20210925T080000
DTEND;TZID=America/Halifax:20210925T180000
DTSTAMP:20260425T233453
CREATED:20210913T045700Z
LAST-MODIFIED:20210913T045700Z
UID:10000090-1632556800-1632592800@cstraining.org
SUMMARY:SST 10hr Class (In Spanish)
DESCRIPTION:
URL:https://cstraining.org/event/sst-10hr-class-in-spanish-16/
LOCATION:CSTraining\, 238 Ferry St.\, Newark\, NJ\, 07105\, United States
CATEGORIES:OSHA Classes
END:VEVENT
BEGIN:VEVENT
DTSTART;TZID=America/Halifax:20211002T080000
DTEND;TZID=America/Halifax:20211002T180000
DTSTAMP:20260425T233453
CREATED:20210927T044401Z
LAST-MODIFIED:20210927T044401Z
UID:10000092-1633161600-1633197600@cstraining.org
SUMMARY:SST 10hr Class (In Spanish)
DESCRIPTION:
URL:https://cstraining.org/event/sst-10hr-class-in-spanish-17/
LOCATION:CSTraining\, 238 Ferry St.\, Newark\, NJ\, 07105\, United States
CATEGORIES:OSHA Classes
END:VEVENT
BEGIN:VEVENT
DTSTART;TZID=America/Halifax:20211009T080000
DTEND;TZID=America/Halifax:20211009T150000
DTSTAMP:20260425T233453
CREATED:20210817T042837Z
LAST-MODIFIED:20210927T044642Z
UID:10000084-1633766400-1633791600@cstraining.org
SUMMARY:Introduction to Blueprint Reading class
DESCRIPTION:
URL:https://cstraining.org/event/introduction-to-blueprint-reading-class-3/
LOCATION:CSTraining\, 238 Ferry St.\, Newark\, NJ\, 07105\, United States
CATEGORIES:Blueprint Reading
END:VEVENT
BEGIN:VEVENT
DTSTART;TZID=America/Halifax:20211009T080000
DTEND;TZID=America/Halifax:20211009T180000
DTSTAMP:20260425T233453
CREATED:20211006T190828Z
LAST-MODIFIED:20211006T191148Z
UID:10000093-1633766400-1633802400@cstraining.org
SUMMARY:SST 10hr Class (In Spanish)
DESCRIPTION:
URL:https://cstraining.org/event/sst-10hr-class-in-spanish-18/
LOCATION:CSTraining\, 238 Ferry St.\, Newark\, NJ\, 07105\, United States
CATEGORIES:OSHA Classes
END:VEVENT
BEGIN:VEVENT
DTSTART;TZID=America/Halifax:20211014T180000
DTEND;TZID=America/Halifax:20211014T220000
DTSTAMP:20260425T233453
CREATED:20210901T231817Z
LAST-MODIFIED:20210927T044951Z
UID:10000087-1634234400-1634248800@cstraining.org
SUMMARY:Scaffold 4hr Class
DESCRIPTION:
URL:https://cstraining.org/event/scaffold-4hr-class-2/
LOCATION:CSTraining\, 238 Ferry St.\, Newark\, NJ\, 07105\, United States
CATEGORIES:Scaffolds
END:VEVENT
BEGIN:VEVENT
DTSTART;TZID=America/Halifax:20211016T080000
DTEND;TZID=America/Halifax:20211016T180000
DTSTAMP:20260425T233453
CREATED:20211014T153125Z
LAST-MODIFIED:20211014T153125Z
UID:10000099-1634371200-1634407200@cstraining.org
SUMMARY:SST 10hr Class (In Spanish)
DESCRIPTION:
URL:https://cstraining.org/event/sst-10hr-class-in-spanish-19/
LOCATION:CSTraining\, 238 Ferry St.\, Newark\, NJ\, 07105\, United States
CATEGORIES:OSHA Classes
END:VEVENT
BEGIN:VEVENT
DTSTART;TZID=America/Halifax:20211017T100000
DTEND;TZID=America/Halifax:20211017T150000
DTSTAMP:20260425T233453
CREATED:20210913T184556Z
LAST-MODIFIED:20210913T184556Z
UID:10000091-1634464800-1634482800@cstraining.org
SUMMARY:Forklift Rough Terrain (Spanish/English)
DESCRIPTION:
URL:https://cstraining.org/event/forklift-rough-terrain-spanish-english-9/
LOCATION:CSTraining\, 238 Ferry St.\, Newark\, NJ\, 07105\, United States
CATEGORIES:Forklift Training
END:VEVENT
BEGIN:VEVENT
DTSTART;TZID=America/Halifax:20211023T080000
DTEND;TZID=America/Halifax:20211023T180000
DTSTAMP:20260425T233453
CREATED:20211014T153356Z
LAST-MODIFIED:20211014T153356Z
UID:10000100-1634976000-1635012000@cstraining.org
SUMMARY:SST 10hr Class (In Spanish)
DESCRIPTION:
URL:https://cstraining.org/event/sst-10hr-class-in-spanish-20/
LOCATION:CSTraining\, 238 Ferry St.\, Newark\, NJ\, 07105\, United States
CATEGORIES:OSHA Classes
END:VEVENT
BEGIN:VEVENT
DTSTART;TZID=America/Halifax:20211101T090000
DTEND;TZID=America/Halifax:20211101T170000
DTSTAMP:20260425T233453
CREATED:20211029T211606Z
LAST-MODIFIED:20211029T212328Z
UID:10000101-1635757200-1635786000@cstraining.org
SUMMARY:OSHA-30 Class (Via Zoom)
DESCRIPTION:This will be a 4 day class starting at 9:00 am EDT and ending at 5:00 pm EDT. There will be a 1hr break for lunch. The link for this course will be provided after registering for the class.
URL:https://cstraining.org/event/osha-30-sst-10hr-class-via-zoom/2021-11-01/
LOCATION:CSTraining\, 238 Ferry St.\, Newark\, NJ\, 07105\, United States
CATEGORIES:OSHA Classes
END:VEVENT
BEGIN:VEVENT
DTSTART;TZID=America/Halifax:20211102T090000
DTEND;TZID=America/Halifax:20211102T170000
DTSTAMP:20260425T233453
CREATED:20211029T211606Z
LAST-MODIFIED:20211029T212328Z
UID:10000102-1635843600-1635872400@cstraining.org
SUMMARY:OSHA-30 Class (Via Zoom)
DESCRIPTION:This will be a 4 day class starting at 9:00 am EDT and ending at 5:00 pm EDT. There will be a 1hr break for lunch. The link for this course will be provided after registering for the class.
URL:https://cstraining.org/event/osha-30-sst-10hr-class-via-zoom/2021-11-02/
LOCATION:CSTraining\, 238 Ferry St.\, Newark\, NJ\, 07105\, United States
CATEGORIES:OSHA Classes
END:VEVENT
BEGIN:VEVENT
DTSTART;TZID=America/Halifax:20211103T090000
DTEND;TZID=America/Halifax:20211103T170000
DTSTAMP:20260425T233453
CREATED:20211029T211606Z
LAST-MODIFIED:20211029T212328Z
UID:10000103-1635930000-1635958800@cstraining.org
SUMMARY:OSHA-30 Class (Via Zoom)
DESCRIPTION:This will be a 4 day class starting at 9:00 am EDT and ending at 5:00 pm EDT. There will be a 1hr break for lunch. The link for this course will be provided after registering for the class.
URL:https://cstraining.org/event/osha-30-sst-10hr-class-via-zoom/2021-11-03/
LOCATION:CSTraining\, 238 Ferry St.\, Newark\, NJ\, 07105\, United States
CATEGORIES:OSHA Classes
END:VEVENT
END:VCALENDAR