BEGIN:VCALENDAR
VERSION:2.0
PRODID:-//cstraining - ECPv6.15.3//NONSGML v1.0//EN
CALSCALE:GREGORIAN
METHOD:PUBLISH
X-WR-CALNAME:cstraining
X-ORIGINAL-URL:https://cstraining.org
X-WR-CALDESC:Events for cstraining
REFRESH-INTERVAL;VALUE=DURATION:PT1H
X-Robots-Tag:noindex
X-PUBLISHED-TTL:PT1H
BEGIN:VTIMEZONE
TZID:America/Halifax
BEGIN:DAYLIGHT
TZOFFSETFROM:-0400
TZOFFSETTO:-0300
TZNAME:ADT
DTSTART:20210314T060000
END:DAYLIGHT
BEGIN:STANDARD
TZOFFSETFROM:-0300
TZOFFSETTO:-0400
TZNAME:AST
DTSTART:20211107T050000
END:STANDARD
BEGIN:DAYLIGHT
TZOFFSETFROM:-0400
TZOFFSETTO:-0300
TZNAME:ADT
DTSTART:20220313T060000
END:DAYLIGHT
BEGIN:STANDARD
TZOFFSETFROM:-0300
TZOFFSETTO:-0400
TZNAME:AST
DTSTART:20221106T050000
END:STANDARD
BEGIN:DAYLIGHT
TZOFFSETFROM:-0400
TZOFFSETTO:-0300
TZNAME:ADT
DTSTART:20230312T060000
END:DAYLIGHT
BEGIN:STANDARD
TZOFFSETFROM:-0300
TZOFFSETTO:-0400
TZNAME:AST
DTSTART:20231105T050000
END:STANDARD
BEGIN:DAYLIGHT
TZOFFSETFROM:-0400
TZOFFSETTO:-0300
TZNAME:ADT
DTSTART:20240310T060000
END:DAYLIGHT
BEGIN:STANDARD
TZOFFSETFROM:-0300
TZOFFSETTO:-0400
TZNAME:AST
DTSTART:20241103T050000
END:STANDARD
BEGIN:DAYLIGHT
TZOFFSETFROM:-0400
TZOFFSETTO:-0300
TZNAME:ADT
DTSTART:20250309T060000
END:DAYLIGHT
BEGIN:STANDARD
TZOFFSETFROM:-0300
TZOFFSETTO:-0400
TZNAME:AST
DTSTART:20251102T050000
END:STANDARD
END:VTIMEZONE
BEGIN:VEVENT
DTSTART;TZID=America/Halifax:20251227T130000
DTEND;TZID=America/Halifax:20251227T190000
DTSTAMP:20260423T125154
CREATED:20251030T154107Z
LAST-MODIFIED:20251218T165436Z
UID:10000562-1766840400-1766862000@cstraining.org
SUMMARY:Forklift Class (Spanish/English)
DESCRIPTION:
URL:https://cstraining.org/event/forklift-class-spanish-english-12/
LOCATION:CSTraining\, 238 Ferry St.\, Newark\, NJ\, 07105\, United States
CATEGORIES:Forklift Training
ATTACH;FMTTYPE=image/png:https://cstraining.org/wp-content/uploads/2024/07/Forklift-industrial-montacargas-industrial.png
END:VEVENT
BEGIN:VEVENT
DTSTART;TZID=America/Halifax:20251101T130000
DTEND;TZID=America/Halifax:20251101T190000
DTSTAMP:20260423T125154
CREATED:20231127T033833Z
LAST-MODIFIED:20251028T145315Z
UID:10000147-1762002000-1762023600@cstraining.org
SUMMARY:Forklift Class (Spanish/English)
DESCRIPTION:
URL:https://cstraining.org/event/forklift-class-spanish-english-10/
LOCATION:CSTraining\, 238 Ferry St.\, Newark\, NJ\, 07105\, United States
CATEGORIES:Forklift Training
ATTACH;FMTTYPE=image/png:https://cstraining.org/wp-content/uploads/2020/07/forklift-operator-cover-big-500x358-1.png
END:VEVENT
BEGIN:VEVENT
DTSTART;TZID=America/Halifax:20250201T130000
DTEND;TZID=America/Halifax:20250201T180000
DTSTAMP:20260423T125154
CREATED:20240722T171743Z
LAST-MODIFIED:20250126T152059Z
UID:10000151-1738414800-1738432800@cstraining.org
SUMMARY:Industrial Forklift Training (Spanish/English)
DESCRIPTION:
URL:https://cstraining.org/event/industrial-forklift-training/
LOCATION:NJ
CATEGORIES:Forklift Training
ATTACH;FMTTYPE=image/png:https://cstraining.org/wp-content/uploads/2020/07/forklift-operator-cover-big-500x358-1.png
ORGANIZER;CN="Cstraining":MAILTO:cstadmin@cstraining.org
END:VEVENT
BEGIN:VEVENT
DTSTART;TZID=America/Halifax:20241214T130000
DTEND;TZID=America/Halifax:20241214T190000
DTSTAMP:20260423T125154
CREATED:20240827T165356Z
LAST-MODIFIED:20241207T162612Z
UID:10000150-1734181200-1734202800@cstraining.org
SUMMARY:Forklift Training (Spanish/English)
DESCRIPTION:This training is provided to those who are interested in Learning how to operate a General Industry forklift or a Construction Rough Terrain forklift (or both). The class will start with an in classroom Theory based lesson where people learn about how to operate\, inspect\, and work in general with a Forklift in a safely and secure manner at the jobsite. Then\, after the theory is finished\, students will proceed and do the practical training with the respective type of machinery the registered for. If registered for both\, you will have a chance to perform the practice lesson with both types of Forklifts.
URL:https://cstraining.org/event/forklift-training-spanish-english/
LOCATION:NJ
CATEGORIES:Forklift Training
ATTACH;FMTTYPE=image/png:https://cstraining.org/wp-content/uploads/2024/07/montacargas-todo-terreno.png
END:VEVENT
BEGIN:VEVENT
DTSTART;TZID=America/Halifax:20240210T130000
DTEND;TZID=America/Halifax:20240210T180000
DTSTAMP:20260423T125154
CREATED:20240207T031001Z
LAST-MODIFIED:20240207T031407Z
UID:10000148-1707570000-1707588000@cstraining.org
SUMMARY:Forklift Class Spanish/English
DESCRIPTION:This class is for the Industrial type (HIGH/LOW) forklift only.
URL:https://cstraining.org/event/forklift-class-spanish-english-11/
LOCATION:CSTraining\, 238 Ferry St.\, Newark\, NJ\, 07105\, United States
CATEGORIES:Forklift Training
ATTACH;FMTTYPE=image/png:https://cstraining.org/wp-content/uploads/2020/07/forklift-operator-cover-big-500x358-1.png
END:VEVENT
BEGIN:VEVENT
DTSTART;TZID=America/Halifax:20231202T130000
DTEND;TZID=America/Halifax:20231202T180000
DTSTAMP:20260423T125154
CREATED:20230729T161648Z
LAST-MODIFIED:20231118T000125Z
UID:10000142-1701522000-1701540000@cstraining.org
SUMMARY:Forklift Class (Spanish/English)
DESCRIPTION:
URL:https://cstraining.org/event/forklift-class-spanish-english-6/
LOCATION:CSTraining\, 238 Ferry St.\, Newark\, NJ\, 07105\, United States
CATEGORIES:Forklift Training
ATTACH;FMTTYPE=image/png:https://cstraining.org/wp-content/uploads/2020/07/original-46-115-c-250-h.png
END:VEVENT
BEGIN:VEVENT
DTSTART;TZID=America/Halifax:20231118T130000
DTEND;TZID=America/Halifax:20231118T180000
DTSTAMP:20260423T125154
CREATED:20231103T192534Z
LAST-MODIFIED:20231116T144710Z
UID:10000145-1700312400-1700330400@cstraining.org
SUMMARY:Forklift Class (Spanish/English)
DESCRIPTION:
URL:https://cstraining.org/event/forklift-class-spanish-english-9/
LOCATION:CSTraining\, 238 Ferry St.\, Newark\, NJ\, 07105\, United States
CATEGORIES:Forklift Training
END:VEVENT
BEGIN:VEVENT
DTSTART;TZID=America/Halifax:20231014T130000
DTEND;TZID=America/Halifax:20231014T180000
DTSTAMP:20260423T125154
CREATED:20230928T030001Z
LAST-MODIFIED:20230928T030001Z
UID:10000144-1697288400-1697306400@cstraining.org
SUMMARY:Forklift Class (Spanish/English)
DESCRIPTION:
URL:https://cstraining.org/event/forklift-class-spanish-english-8/
LOCATION:CSTraining\, 238 Ferry St.\, Newark\, NJ\, 07105\, United States
CATEGORIES:Forklift Training
END:VEVENT
BEGIN:VEVENT
DTSTART;TZID=America/Halifax:20230916T130000
DTEND;TZID=America/Halifax:20231019T180000
DTSTAMP:20260423T125154
CREATED:20230815T030113Z
LAST-MODIFIED:20230815T030113Z
UID:10000143-1694869200-1697738400@cstraining.org
SUMMARY:Forklift Class (Spanish/English)
DESCRIPTION:
URL:https://cstraining.org/event/forklift-class-spanish-english-7/
LOCATION:CSTraining\, 238 Ferry St.\, Newark\, NJ\, 07105\, United States
CATEGORIES:Forklift Training
END:VEVENT
BEGIN:VEVENT
DTSTART;TZID=America/Halifax:20230715T130000
DTEND;TZID=America/Halifax:20230715T180000
DTSTAMP:20260423T125154
CREATED:20230516T213049Z
LAST-MODIFIED:20230622T232823Z
UID:10000139-1689426000-1689444000@cstraining.org
SUMMARY:Forklift Class (Spanish/English)
DESCRIPTION:
URL:https://cstraining.org/event/forklift-class-spanish-english-5/
LOCATION:CSTraining\, 238 Ferry St.\, Newark\, NJ\, 07105\, United States
CATEGORIES:Forklift Training
END:VEVENT
BEGIN:VEVENT
DTSTART;TZID=America/Halifax:20230513T130000
DTEND;TZID=America/Halifax:20230513T180000
DTSTAMP:20260423T125154
CREATED:20230422T014443Z
LAST-MODIFIED:20230422T014443Z
UID:10000137-1683982800-1684000800@cstraining.org
SUMMARY:Forklift Class (Spanish/English)
DESCRIPTION:
URL:https://cstraining.org/event/forklift-class-spanish-english-4/
LOCATION:CSTraining\, 238 Ferry St.\, Newark\, NJ\, 07105\, United States
CATEGORIES:Forklift Training
END:VEVENT
BEGIN:VEVENT
DTSTART;TZID=America/Halifax:20230415T130000
DTEND;TZID=America/Halifax:20230415T180000
DTSTAMP:20260423T125154
CREATED:20230331T002754Z
LAST-MODIFIED:20230331T002754Z
UID:10000136-1681563600-1681581600@cstraining.org
SUMMARY:Forklift Class (Spanish/English)
DESCRIPTION:
URL:https://cstraining.org/event/forklift-class-spanish-english-3/
LOCATION:CSTraining\, 238 Ferry St.\, Newark\, NJ\, 07105\, United States
CATEGORIES:Forklift Training
END:VEVENT
BEGIN:VEVENT
DTSTART;TZID=America/Halifax:20230318T130000
DTEND;TZID=America/Halifax:20230318T180000
DTSTAMP:20260423T125154
CREATED:20230305T021103Z
LAST-MODIFIED:20230305T021623Z
UID:10000134-1679144400-1679162400@cstraining.org
SUMMARY:Forklift Class (Spanish/English)
DESCRIPTION:
URL:https://cstraining.org/event/forklift-class-spanish-english-2/
LOCATION:CSTraining\, 238 Ferry St.\, Newark\, NJ\, 07105\, United States
CATEGORIES:Forklift Training
END:VEVENT
BEGIN:VEVENT
DTSTART;TZID=America/Halifax:20230218T130000
DTEND;TZID=America/Halifax:20230218T180000
DTSTAMP:20260423T125154
CREATED:20221118T145803Z
LAST-MODIFIED:20230305T021435Z
UID:10000130-1676725200-1676743200@cstraining.org
SUMMARY:Forklift Class (Spanish/English)
DESCRIPTION:
URL:https://cstraining.org/event/forklift-class-spanish-english/
LOCATION:CSTraining\, 238 Ferry St.\, Newark\, NJ\, 07105\, United States
CATEGORIES:Forklift Training
END:VEVENT
BEGIN:VEVENT
DTSTART;TZID=America/Halifax:20221113T100000
DTEND;TZID=America/Halifax:20221113T150000
DTSTAMP:20260423T125154
CREATED:20221020T191650Z
LAST-MODIFIED:20221109T213803Z
UID:10000128-1668333600-1668351600@cstraining.org
SUMMARY:Forklift Rough Terrain (Spanish/English)
DESCRIPTION:
URL:https://cstraining.org/event/forklift-rough-terrain-spanish-english-22/
LOCATION:CSTraining\, 238 Ferry St.\, Newark\, NJ\, 07105\, United States
CATEGORIES:Forklift Training
END:VEVENT
BEGIN:VEVENT
DTSTART;TZID=America/Halifax:20221016T100000
DTEND;TZID=America/Halifax:20221016T150000
DTSTAMP:20260423T125154
CREATED:20220913T033655Z
LAST-MODIFIED:20220913T033655Z
UID:10000123-1665914400-1665932400@cstraining.org
SUMMARY:Forklift Rough Terrain (Spanish/English)
DESCRIPTION:
URL:https://cstraining.org/event/forklift-rough-terrain-spanish-english-21/
LOCATION:CSTraining\, 238 Ferry St.\, Newark\, NJ\, 07105\, United States
CATEGORIES:Forklift Training
END:VEVENT
BEGIN:VEVENT
DTSTART;TZID=America/Halifax:20220911T100000
DTEND;TZID=America/Halifax:20220911T150000
DTSTAMP:20260423T125154
CREATED:20220819T055558Z
LAST-MODIFIED:20220908T164032Z
UID:10000051-1662890400-1662908400@cstraining.org
SUMMARY:Forklift Rough Terrain (Spanish/English)
DESCRIPTION:
URL:https://cstraining.org/event/forklift-rough-terrain-spanish-english-20/
LOCATION:CSTraining\, 238 Ferry St.\, Newark\, NJ\, 07105\, United States
CATEGORIES:Forklift Training
END:VEVENT
BEGIN:VEVENT
DTSTART;TZID=America/Halifax:20220814T100000
DTEND;TZID=America/Halifax:20220814T150000
DTSTAMP:20260423T125154
CREATED:20220715T215123Z
LAST-MODIFIED:20220717T024426Z
UID:10000043-1660471200-1660489200@cstraining.org
SUMMARY:Forklift Rough Terrain (Spanish/English)
DESCRIPTION:
URL:https://cstraining.org/event/forklift-rough-terrain-spanish-english-19/
LOCATION:CSTraining\, 238 Ferry St.\, Newark\, NJ\, 07105\, United States
CATEGORIES:Forklift Training
END:VEVENT
BEGIN:VEVENT
DTSTART;TZID=America/Halifax:20220717T100000
DTEND;TZID=America/Halifax:20220717T150000
DTSTAMP:20260423T125154
CREATED:20220628T044812Z
LAST-MODIFIED:20220715T215213Z
UID:10000041-1658052000-1658070000@cstraining.org
SUMMARY:Forklift Rough Terrain (Spanish/English)
DESCRIPTION:
URL:https://cstraining.org/event/forklift-rough-terrain-spanish-english-18/
LOCATION:CSTraining\, 238 Ferry St.\, Newark\, NJ\, 07105\, United States
CATEGORIES:Forklift Training
END:VEVENT
BEGIN:VEVENT
DTSTART;TZID=America/Halifax:20220626T100000
DTEND;TZID=America/Halifax:20220626T153000
DTSTAMP:20260423T125154
CREATED:20220621T035817Z
LAST-MODIFIED:20220622T175941Z
UID:10000039-1656237600-1656257400@cstraining.org
SUMMARY:Forklift Rough Terrain (Spanish/English)
DESCRIPTION:
URL:https://cstraining.org/event/forklift-rough-terrain-spanish-english-17/
LOCATION:CSTraining\, 238 Ferry St.\, Newark\, NJ\, 07105\, United States
CATEGORIES:Forklift Training
END:VEVENT
BEGIN:VEVENT
DTSTART;TZID=America/Halifax:20220626T100000
DTEND;TZID=America/Halifax:20220626T153000
DTSTAMP:20260423T125154
CREATED:20220517T222132Z
LAST-MODIFIED:20220622T181519Z
UID:10000034-1656237600-1656257400@cstraining.org
SUMMARY:Forklift Rough Terrain (Spanish/English)
DESCRIPTION:
URL:https://cstraining.org/event/forklift-rough-terrain-spanish-english-171/
LOCATION:CSTraining\, 238 Ferry St.\, Newark\, NJ\, 07105\, United States
CATEGORIES:Forklift Training
END:VEVENT
BEGIN:VEVENT
DTSTART;TZID=America/Halifax:20220515T100000
DTEND;TZID=America/Halifax:20220515T150000
DTSTAMP:20260423T125154
CREATED:20220421T140841Z
LAST-MODIFIED:20220429T183420Z
UID:10000118-1652608800-1652626800@cstraining.org
SUMMARY:Forklift Rough Terrain (Spanish/English)
DESCRIPTION:
URL:https://cstraining.org/event/forklift-rough-terrain-spanish-english-16/
LOCATION:CSTraining\, 238 Ferry St.\, Newark\, NJ\, 07105\, United States
CATEGORIES:Forklift Training
END:VEVENT
BEGIN:VEVENT
DTSTART;TZID=America/Halifax:20220320T100000
DTEND;TZID=America/Halifax:20220320T150000
DTSTAMP:20260423T125154
CREATED:20220223T161445Z
LAST-MODIFIED:20220312T160627Z
UID:10000112-1647770400-1647788400@cstraining.org
SUMMARY:Forklift Rough Terrain (Spanish/English)
DESCRIPTION:Theory portion of the class will take place at our office located in 238 Ferry Street\, Newark\, NJ\, 07105.\nPractical portion of the call will take place at the yard we reserve for this class. Directions to the yard will be provided by the instructor.
URL:https://cstraining.org/event/forklift-rough-terrain-spanish-english-14/
LOCATION:CSTraining\, 238 Ferry St.\, Newark\, NJ\, 07105\, United States
CATEGORIES:Forklift Training
END:VEVENT
BEGIN:VEVENT
DTSTART;TZID=America/Halifax:20220220T100000
DTEND;TZID=America/Halifax:20220220T150000
DTSTAMP:20260423T125154
CREATED:20220121T173640Z
LAST-MODIFIED:20220121T173722Z
UID:10000111-1645351200-1645369200@cstraining.org
SUMMARY:Forklift Rough Terrain (Spanish/English)
DESCRIPTION:
URL:https://cstraining.org/event/forklift-rough-terrain-spanish-english-13/
LOCATION:CSTraining\, 238 Ferry St.\, Newark\, NJ\, 07105\, United States
CATEGORIES:Forklift Training
END:VEVENT
BEGIN:VEVENT
DTSTART;TZID=America/Halifax:20220123T100000
DTEND;TZID=America/Halifax:20220123T150000
DTSTAMP:20260423T125154
CREATED:20211228T014929Z
LAST-MODIFIED:20211228T014929Z
UID:10000110-1642932000-1642950000@cstraining.org
SUMMARY:Forklift Rough Terrain (Spanish/English)
DESCRIPTION:
URL:https://cstraining.org/event/forklift-rough-terrain-spanish-english-12/
LOCATION:CSTraining\, 238 Ferry St.\, Newark\, NJ\, 07105\, United States
CATEGORIES:Forklift Training
END:VEVENT
BEGIN:VEVENT
DTSTART;TZID=America/Halifax:20211219T100000
DTEND;TZID=America/Halifax:20211219T150000
DTSTAMP:20260423T125154
CREATED:20211129T060516Z
LAST-MODIFIED:20211129T060516Z
UID:10000107-1639908000-1639926000@cstraining.org
SUMMARY:Forklift Rough Terrain (Spanish/English)
DESCRIPTION:
URL:https://cstraining.org/event/forklift-rough-terrain-spanish-english-11/
LOCATION:CSTraining\, 238 Ferry St.\, Newark\, NJ\, 07105\, United States
CATEGORIES:Forklift Training
END:VEVENT
BEGIN:VEVENT
DTSTART;TZID=America/Halifax:20211121T100000
DTEND;TZID=America/Halifax:20211121T150000
DTSTAMP:20260423T125154
CREATED:20211014T151520Z
LAST-MODIFIED:20211014T151607Z
UID:10000094-1637488800-1637506800@cstraining.org
SUMMARY:Forklift Rough Terrain (Spanish/English)
DESCRIPTION:
URL:https://cstraining.org/event/forklift-rough-terrain-spanish-english-10/
LOCATION:CSTraining\, 238 Ferry St.\, Newark\, NJ\, 07105\, United States
CATEGORIES:Forklift Training
END:VEVENT
BEGIN:VEVENT
DTSTART;TZID=America/Halifax:20211017T100000
DTEND;TZID=America/Halifax:20211017T150000
DTSTAMP:20260423T125154
CREATED:20210913T184556Z
LAST-MODIFIED:20210913T184556Z
UID:10000091-1634464800-1634482800@cstraining.org
SUMMARY:Forklift Rough Terrain (Spanish/English)
DESCRIPTION:
URL:https://cstraining.org/event/forklift-rough-terrain-spanish-english-9/
LOCATION:CSTraining\, 238 Ferry St.\, Newark\, NJ\, 07105\, United States
CATEGORIES:Forklift Training
END:VEVENT
BEGIN:VEVENT
DTSTART;TZID=America/Halifax:20210912T100000
DTEND;TZID=America/Halifax:20210912T150000
DTSTAMP:20260423T125154
CREATED:20210806T213257Z
LAST-MODIFIED:20210806T213257Z
UID:10000012-1631440800-1631458800@cstraining.org
SUMMARY:Forklift Rough Terrain (Spanish/English)
DESCRIPTION:
URL:https://cstraining.org/event/forklift-rough-terrain-spanish-english-8/
LOCATION:CSTraining\, 238 Ferry St.\, Newark\, NJ\, 07105\, United States
CATEGORIES:Forklift Training
END:VEVENT
BEGIN:VEVENT
DTSTART;TZID=America/Halifax:20210815T100000
DTEND;TZID=America/Halifax:20210815T150000
DTSTAMP:20260423T125154
CREATED:20210715T070502Z
LAST-MODIFIED:20210811T191714Z
UID:10000008-1629021600-1629039600@cstraining.org
SUMMARY:Forklift Rough Terrain (Spanish/English)
DESCRIPTION:
URL:https://cstraining.org/event/forklift-rough-terrain-spanish-english-7/
LOCATION:CSTraining\, 238 Ferry St.\, Newark\, NJ\, 07105\, United States
CATEGORIES:Forklift Training
END:VEVENT
END:VCALENDAR