BEGIN:VCALENDAR
VERSION:2.0
PRODID:-//cstraining - ECPv6.15.3//NONSGML v1.0//EN
CALSCALE:GREGORIAN
METHOD:PUBLISH
X-ORIGINAL-URL:https://cstraining.org
X-WR-CALDESC:Events for cstraining
REFRESH-INTERVAL;VALUE=DURATION:PT1H
X-Robots-Tag:noindex
X-PUBLISHED-TTL:PT1H
BEGIN:VTIMEZONE
TZID:America/Halifax
BEGIN:DAYLIGHT
TZOFFSETFROM:-0400
TZOFFSETTO:-0300
TZNAME:ADT
DTSTART:20250309T060000
END:DAYLIGHT
BEGIN:STANDARD
TZOFFSETFROM:-0300
TZOFFSETTO:-0400
TZNAME:AST
DTSTART:20251102T050000
END:STANDARD
END:VTIMEZONE
BEGIN:VEVENT
DTSTART;TZID=America/Halifax:20250816T110000
DTEND;TZID=America/Halifax:20250816T170000
DTSTAMP:20260423T170619
CREATED:20250614T171454Z
LAST-MODIFIED:20250712T162201Z
UID:10000153-1755342000-1755363600@cstraining.org
SUMMARY:Loaders Class
DESCRIPTION:This training class for construction workers has been designed to provide operators with the necessary knowledge and skills to properly operate front-end loaders\, skid steer loaders\, or other types of loaders used in construction. This class will cover the equipment operation\, safety procedures\, maintenance\, and relevant regulations.
URL:https://cstraining.org/event/loaders-class/
CATEGORIES:Loaders
ATTACH;FMTTYPE=image/png:https://cstraining.org/wp-content/uploads/2025/06/Loaders-pic.png
END:VEVENT
END:VCALENDAR