BEGIN:VCALENDAR
VERSION:2.0
PRODID:-//cstraining - ECPv6.15.3//NONSGML v1.0//EN
CALSCALE:GREGORIAN
METHOD:PUBLISH
X-ORIGINAL-URL:https://cstraining.org
X-WR-CALDESC:Events for cstraining
REFRESH-INTERVAL;VALUE=DURATION:PT1H
X-Robots-Tag:noindex
X-PUBLISHED-TTL:PT1H
BEGIN:VTIMEZONE
TZID:America/Halifax
BEGIN:DAYLIGHT
TZOFFSETFROM:-0400
TZOFFSETTO:-0300
TZNAME:ADT
DTSTART:20250309T060000
END:DAYLIGHT
BEGIN:STANDARD
TZOFFSETFROM:-0300
TZOFFSETTO:-0400
TZNAME:AST
DTSTART:20251102T050000
END:STANDARD
BEGIN:DAYLIGHT
TZOFFSETFROM:-0400
TZOFFSETTO:-0300
TZNAME:ADT
DTSTART:20260308T060000
END:DAYLIGHT
BEGIN:STANDARD
TZOFFSETFROM:-0300
TZOFFSETTO:-0400
TZNAME:AST
DTSTART:20261101T050000
END:STANDARD
BEGIN:DAYLIGHT
TZOFFSETFROM:-0400
TZOFFSETTO:-0300
TZNAME:ADT
DTSTART:20270314T060000
END:DAYLIGHT
BEGIN:STANDARD
TZOFFSETFROM:-0300
TZOFFSETTO:-0400
TZNAME:AST
DTSTART:20271107T050000
END:STANDARD
BEGIN:DAYLIGHT
TZOFFSETFROM:-0400
TZOFFSETTO:-0300
TZNAME:ADT
DTSTART:20280312T060000
END:DAYLIGHT
BEGIN:STANDARD
TZOFFSETFROM:-0300
TZOFFSETTO:-0400
TZNAME:AST
DTSTART:20281105T050000
END:STANDARD
BEGIN:DAYLIGHT
TZOFFSETFROM:-0400
TZOFFSETTO:-0300
TZNAME:ADT
DTSTART:20290311T060000
END:DAYLIGHT
BEGIN:STANDARD
TZOFFSETFROM:-0300
TZOFFSETTO:-0400
TZNAME:AST
DTSTART:20291104T050000
END:STANDARD
BEGIN:DAYLIGHT
TZOFFSETFROM:-0400
TZOFFSETTO:-0300
TZNAME:ADT
DTSTART:20300310T060000
END:DAYLIGHT
BEGIN:STANDARD
TZOFFSETFROM:-0300
TZOFFSETTO:-0400
TZNAME:AST
DTSTART:20301103T050000
END:STANDARD
END:VTIMEZONE
BEGIN:VEVENT
DTSTART;VALUE=DATE:20250718
DTEND;VALUE=DATE:20300808
DTSTAMP:20260423T171818
CREATED:20211109T160711Z
LAST-MODIFIED:20250831T165216Z
UID:10000105-1752796800-1912377599@cstraining.org
SUMMARY:OSHA-30 Course Online
DESCRIPTION:This class will be a personalized course that the student will be able to take anytime & anywhere. The details and link for the course will be provided within 24hrs of registering online.
URL:https://cstraining.org/event/osha-30-course-online/
LOCATION:CSTraining\, 238 Ferry St.\, Newark\, NJ\, 07105\, United States
CATEGORIES:OSHA Classes
ORGANIZER;CN="Cstraining":MAILTO:cstadmin@cstraining.org
END:VEVENT
BEGIN:VEVENT
DTSTART;VALUE=DATE:20250718
DTEND;VALUE=DATE:20300808
DTSTAMP:20260423T171818
CREATED:20241015T010509Z
LAST-MODIFIED:20250812T220645Z
UID:10000152-1752796800-1912377599@cstraining.org
SUMMARY:OSHA  General Industry (Online Class)
DESCRIPTION:
URL:https://cstraining.org/event/osha-10-general-industry-online-class/
LOCATION:NJ
CATEGORIES:OSHA Classes
END:VEVENT
BEGIN:VEVENT
DTSTART;VALUE=DATE:20250809
DTEND;VALUE=DATE:20310101
DTSTAMP:20260423T171818
CREATED:20250809T190611Z
LAST-MODIFIED:20250809T190611Z
UID:10000154-1754697600-1924991999@cstraining.org
SUMMARY:OSHA-10 (Online)
DESCRIPTION:
URL:https://cstraining.org/event/osha-10-online/
LOCATION:NJ
CATEGORIES:OSHA Classes
ATTACH;FMTTYPE=image/jpeg:https://cstraining.org/wp-content/uploads/2022/07/Motorized-Mobile-Platforms-For-Construction-scaled.jpg
END:VEVENT
BEGIN:VEVENT
DTSTART;TZID=America/Halifax:20260130T180000
DTEND;TZID=America/Halifax:20260130T220000
DTSTAMP:20260423T171818
CREATED:20260211T055821Z
LAST-MODIFIED:20260211T055822Z
UID:10000566-1769796000-1769810400@cstraining.org
SUMMARY:OSHA 10 class (Jan 30th thru 31st)
DESCRIPTION:Event description:\nThis is a 10 hour training course in Construction standards and was created by OSHA\, who authorizes certain OSHA Outreach trainers to conduct this 30-hour training class for a group of trainees. For this reason\, we are presenting this as part of our program in a classroom environment. Upon completion of the OSHA 30 course\, a student will receive a personalized certificate for the course\, plus the official DOL / OSHA 30 hour Construction course wallet card which are accepted nationwide. \nLearner prerequisites: \n– None \nIACET CEUs Earned: \n– 1.0 IACET CEUs \n  \nMandatory attendance requirements: \n– All students must attend all of the scheduled classes in order to successfully complete this course. \n– Shall a student miss a class\, we will allow up to two make up classes. \n– A final examination will be provided and the students must obtain at least a 70% passing score to pass this course. \n  \nLearner support contact information: \n– Email: cstadmin@cstraining.org\n– Phone Number: 973-344-3600 \n  \nLearning outcomes: \nOSHA-10 \n \nAnti-discrimination policy: \n\nhttps://docs.google.com/document/d/1hVXbu9IsUsBmCp2a_NW97kpBkBxha_4N/edit\n\nIntellectual and legal property policy: \n\nhttps://docs.google.com/document/d/1Sr4LTnhOIZkulkoWUtM13Iu3eX-_vNFY/edit\nhttps://docs.google.com/document/d/1r6Eu2kdEo1kF67zhmoE08uMgJXMHPRV7/edit\n\nProprietary interest policy: \nhttps://docs.google.com/document/d/1r6Eu2kdEo1kF67zhmoE08uMgJXMHPRV7/edit \n  \nCST LLC provides full learner support during the OSHA-10 Construction course.\n \nLearner Support Services \n\nCST Training provides instructional\, administrative\, and technical support before\, during\, and after the learning event to ensure learners can successfully register\, participate\, complete course requirements\, and receive required documentation.\n\n\nInstructional Support \n\nOSHA-authorized trainers are available during all instructional hours to answer questions\, clarify course content\, and support learner achievement.\n\n\nAdministrative Support \n\nCST administrative staff are available to assist with registration\, attendance\, scheduling\, course logistics\, and post-event documentation inquiries.\nPhone: 973-344-3600\nEmail: cstadmin@cstraining.org\n\n\nTechnical Support \n\nAssistance with digital materials\, email access\, certificates\, and OSHA documentation is available through CST’s technical support team at oscar@cstraining.org.\n\nAccess to Learning Resources \n\nAll required instructional materials\, including handouts\, digital files\, equipment\, and audiovisual resources\, are provided by CST and available during the course.\n\n\nAccommodations \n\nLearners requiring disability-related accommodations may contact cstadmin@cstraining.org prior to or during the learning event.\n\n\nAvailability \n\nMonday–Friday\, 9:00 a.m.–5:00 p.m. ET\nLearner support requests are managed in accordance with CST’s documented Learner Support and Communication Process.
URL:https://cstraining.org/event/osha-10-class-jan-30th-thru-31st-2/
LOCATION:CSTraining\, 238 Ferry St.\, Newark\, NJ\, 07105\, United States
CATEGORIES:OSHA Classes
ATTACH;FMTTYPE=image/png:https://cstraining.org/wp-content/uploads/2020/02/Capture_30_10-e1584421878613.png
END:VEVENT
END:VCALENDAR