BEGIN:VCALENDAR
VERSION:2.0
PRODID:-//cstraining - ECPv6.15.3//NONSGML v1.0//EN
CALSCALE:GREGORIAN
METHOD:PUBLISH
X-WR-CALNAME:cstraining
X-ORIGINAL-URL:https://cstraining.org
X-WR-CALDESC:Events for cstraining
REFRESH-INTERVAL;VALUE=DURATION:PT1H
X-Robots-Tag:noindex
X-PUBLISHED-TTL:PT1H
BEGIN:VTIMEZONE
TZID:America/Halifax
BEGIN:DAYLIGHT
TZOFFSETFROM:-0400
TZOFFSETTO:-0300
TZNAME:ADT
DTSTART:20210314T060000
END:DAYLIGHT
BEGIN:STANDARD
TZOFFSETFROM:-0300
TZOFFSETTO:-0400
TZNAME:AST
DTSTART:20211107T050000
END:STANDARD
BEGIN:DAYLIGHT
TZOFFSETFROM:-0400
TZOFFSETTO:-0300
TZNAME:ADT
DTSTART:20220313T060000
END:DAYLIGHT
BEGIN:STANDARD
TZOFFSETFROM:-0300
TZOFFSETTO:-0400
TZNAME:AST
DTSTART:20221106T050000
END:STANDARD
BEGIN:DAYLIGHT
TZOFFSETFROM:-0400
TZOFFSETTO:-0300
TZNAME:ADT
DTSTART:20230312T060000
END:DAYLIGHT
BEGIN:STANDARD
TZOFFSETFROM:-0300
TZOFFSETTO:-0400
TZNAME:AST
DTSTART:20231105T050000
END:STANDARD
END:VTIMEZONE
BEGIN:VEVENT
DTSTART;TZID=America/Halifax:20220820T080000
DTEND;TZID=America/Halifax:20220820T160000
DTSTAMP:20260425T192158
CREATED:20220802T041948Z
LAST-MODIFIED:20220802T041948Z
UID:10000047-1660982400-1661011200@cstraining.org
SUMMARY:Blueprint Reading Class
DESCRIPTION:
URL:https://cstraining.org/event/blueprint-reading-class-3/
LOCATION:CSTraining\, 238 Ferry St.\, Newark\, NJ\, 07105\, United States
CATEGORIES:Blueprint Reading
END:VEVENT
BEGIN:VEVENT
DTSTART;TZID=America/Halifax:20220819T180000
DTEND;TZID=America/Halifax:20220819T220000
DTSTAMP:20260425T192158
CREATED:20220802T042653Z
LAST-MODIFIED:20220802T042653Z
UID:10000049-1660932000-1660946400@cstraining.org
SUMMARY:Scaffold 4hr Training
DESCRIPTION:
URL:https://cstraining.org/event/scaffold-4hr-training-2/
LOCATION:CSTraining\, 238 Ferry St.\, Newark\, NJ\, 07105\, United States
CATEGORIES:Scaffolds
END:VEVENT
BEGIN:VEVENT
DTSTART;TZID=America/Halifax:20220814T100000
DTEND;TZID=America/Halifax:20220814T150000
DTSTAMP:20260425T192158
CREATED:20220715T215123Z
LAST-MODIFIED:20220717T024426Z
UID:10000043-1660471200-1660489200@cstraining.org
SUMMARY:Forklift Rough Terrain (Spanish/English)
DESCRIPTION:
URL:https://cstraining.org/event/forklift-rough-terrain-spanish-english-19/
LOCATION:CSTraining\, 238 Ferry St.\, Newark\, NJ\, 07105\, United States
CATEGORIES:Forklift Training
END:VEVENT
BEGIN:VEVENT
DTSTART;TZID=America/Halifax:20220721T000000
DTEND;TZID=America/Halifax:20231231T000000
DTSTAMP:20260425T192158
CREATED:20220721T193439Z
LAST-MODIFIED:20220721T193528Z
UID:10000045-1658361600-1703980800@cstraining.org
SUMMARY:OSHA-10 Course Online
DESCRIPTION:
URL:https://cstraining.org/event/osha-10-course-online/
LOCATION:CSTraining\, 238 Ferry St.\, Newark\, NJ\, 07105\, United States
CATEGORIES:OSHA Classes
END:VEVENT
BEGIN:VEVENT
DTSTART;TZID=America/Halifax:20220717T100000
DTEND;TZID=America/Halifax:20220717T150000
DTSTAMP:20260425T192158
CREATED:20220628T044812Z
LAST-MODIFIED:20220715T215213Z
UID:10000041-1658052000-1658070000@cstraining.org
SUMMARY:Forklift Rough Terrain (Spanish/English)
DESCRIPTION:
URL:https://cstraining.org/event/forklift-rough-terrain-spanish-english-18/
LOCATION:CSTraining\, 238 Ferry St.\, Newark\, NJ\, 07105\, United States
CATEGORIES:Forklift Training
END:VEVENT
BEGIN:VEVENT
DTSTART;TZID=America/Halifax:20220626T100000
DTEND;TZID=America/Halifax:20220626T153000
DTSTAMP:20260425T192158
CREATED:20220621T035817Z
LAST-MODIFIED:20220622T175941Z
UID:10000039-1656237600-1656257400@cstraining.org
SUMMARY:Forklift Rough Terrain (Spanish/English)
DESCRIPTION:
URL:https://cstraining.org/event/forklift-rough-terrain-spanish-english-17/
LOCATION:CSTraining\, 238 Ferry St.\, Newark\, NJ\, 07105\, United States
CATEGORIES:Forklift Training
END:VEVENT
BEGIN:VEVENT
DTSTART;TZID=America/Halifax:20220626T100000
DTEND;TZID=America/Halifax:20220626T153000
DTSTAMP:20260425T192158
CREATED:20220517T222132Z
LAST-MODIFIED:20220622T181519Z
UID:10000034-1656237600-1656257400@cstraining.org
SUMMARY:Forklift Rough Terrain (Spanish/English)
DESCRIPTION:
URL:https://cstraining.org/event/forklift-rough-terrain-spanish-english-171/
LOCATION:CSTraining\, 238 Ferry St.\, Newark\, NJ\, 07105\, United States
CATEGORIES:Forklift Training
END:VEVENT
BEGIN:VEVENT
DTSTART;TZID=America/Halifax:20220618T080000
DTEND;TZID=America/Halifax:20220618T160000
DTSTAMP:20260425T192158
CREATED:20220527T205428Z
LAST-MODIFIED:20220527T205428Z
UID:10000037-1655539200-1655568000@cstraining.org
SUMMARY:Blueprint Reading Class
DESCRIPTION:
URL:https://cstraining.org/event/blueprint-reading-class-2/
LOCATION:CSTraining\, 238 Ferry St.\, Newark\, NJ\, 07105\, United States
CATEGORIES:Blueprint Reading
END:VEVENT
BEGIN:VEVENT
DTSTART;TZID=America/Halifax:20220617T180000
DTEND;TZID=America/Halifax:20220617T220000
DTSTAMP:20260425T192158
CREATED:20220325T224450Z
LAST-MODIFIED:20220615T141913Z
UID:10000115-1655488800-1655503200@cstraining.org
SUMMARY:Scaffold 4hr Training
DESCRIPTION:
URL:https://cstraining.org/event/scaffold-4hr-training/
LOCATION:CSTraining\, 238 Ferry St.\, Newark\, NJ\, 07105\, United States
CATEGORIES:Scaffolds
END:VEVENT
BEGIN:VEVENT
DTSTART;TZID=America/Halifax:20220604T080000
DTEND;TZID=America/Halifax:20220604T180000
DTSTAMP:20260425T192158
CREATED:20220517T222753Z
LAST-MODIFIED:20220602T041445Z
UID:10000035-1654329600-1654365600@cstraining.org
SUMMARY:SST-10hr Class (OSHA-40)
DESCRIPTION:
URL:https://cstraining.org/event/sst-10hr-class-osha-40-2/
LOCATION:CSTraining\, 238 Ferry St.\, Newark\, NJ\, 07105\, United States
CATEGORIES:OSHA Classes
END:VEVENT
BEGIN:VEVENT
DTSTART;TZID=America/Halifax:20220526T180000
DTEND;TZID=America/Halifax:20220526T213000
DTSTAMP:20260425T192158
CREATED:20220427T203448Z
LAST-MODIFIED:20220427T203448Z
UID:10000119-1653588000-1653600600@cstraining.org
SUMMARY:Crystalline Silica
DESCRIPTION:
URL:https://cstraining.org/event/crystalline-silica/
LOCATION:CSTraining\, 238 Ferry St.\, Newark\, NJ\, 07105\, United States
CATEGORIES:Silica
END:VEVENT
BEGIN:VEVENT
DTSTART;TZID=America/Halifax:20220521T080000
DTEND;TZID=America/Halifax:20220521T150000
DTSTAMP:20260425T192158
CREATED:20220325T225406Z
LAST-MODIFIED:20220517T193949Z
UID:10000116-1653120000-1653145200@cstraining.org
SUMMARY:Blueprint Reading Class
DESCRIPTION:
URL:https://cstraining.org/event/blueprint-reading-class/
LOCATION:CSTraining\, 238 Ferry St.\, Newark\, NJ\, 07105\, United States
CATEGORIES:Blueprint Reading
END:VEVENT
BEGIN:VEVENT
DTSTART;TZID=America/Halifax:20220515T100000
DTEND;TZID=America/Halifax:20220515T150000
DTSTAMP:20260425T192158
CREATED:20220421T140841Z
LAST-MODIFIED:20220429T183420Z
UID:10000118-1652608800-1652626800@cstraining.org
SUMMARY:Forklift Rough Terrain (Spanish/English)
DESCRIPTION:
URL:https://cstraining.org/event/forklift-rough-terrain-spanish-english-16/
LOCATION:CSTraining\, 238 Ferry St.\, Newark\, NJ\, 07105\, United States
CATEGORIES:Forklift Training
END:VEVENT
BEGIN:VEVENT
DTSTART;TZID=America/Halifax:20220507T080000
DTEND;TZID=America/Halifax:20220507T163000
DTSTAMP:20260425T192158
CREATED:20220504T172430Z
LAST-MODIFIED:20220504T172540Z
UID:10000120-1651910400-1651941000@cstraining.org
SUMMARY:OSHA 10
DESCRIPTION:
URL:https://cstraining.org/event/osha-10-2/
LOCATION:CSTraining\, 238 Ferry St.\, Newark\, NJ\, 07105\, United States
CATEGORIES:OSHA Classes
END:VEVENT
BEGIN:VEVENT
DTSTART;TZID=America/Halifax:20220402T080000
DTEND;TZID=America/Halifax:20220402T180000
DTSTAMP:20260425T192158
CREATED:20220325T234455Z
LAST-MODIFIED:20220325T234710Z
UID:10000117-1648886400-1648922400@cstraining.org
SUMMARY:SST-10hr Classes
DESCRIPTION:
URL:https://cstraining.org/event/sst-10hr-classes/
LOCATION:CSTraining\, 238 Ferry St.\, Newark\, NJ\, 07105\, United States
CATEGORIES:OSHA Classes
END:VEVENT
BEGIN:VEVENT
DTSTART;TZID=America/Halifax:20220320T100000
DTEND;TZID=America/Halifax:20220320T150000
DTSTAMP:20260425T192158
CREATED:20220223T161445Z
LAST-MODIFIED:20220312T160627Z
UID:10000112-1647770400-1647788400@cstraining.org
SUMMARY:Forklift Rough Terrain (Spanish/English)
DESCRIPTION:Theory portion of the class will take place at our office located in 238 Ferry Street\, Newark\, NJ\, 07105.\nPractical portion of the call will take place at the yard we reserve for this class. Directions to the yard will be provided by the instructor.
URL:https://cstraining.org/event/forklift-rough-terrain-spanish-english-14/
LOCATION:CSTraining\, 238 Ferry St.\, Newark\, NJ\, 07105\, United States
CATEGORIES:Forklift Training
END:VEVENT
BEGIN:VEVENT
DTSTART;TZID=America/Halifax:20220227T080000
DTEND;TZID=America/Halifax:20220227T180000
DTSTAMP:20260425T192158
CREATED:20220223T161741Z
LAST-MODIFIED:20220223T161741Z
UID:10000113-1645948800-1645984800@cstraining.org
SUMMARY:SST 10hr Class (OSHA-40)
DESCRIPTION:
URL:https://cstraining.org/event/sst-10hr-class-osha-40/
LOCATION:CSTraining\, 238 Ferry St.\, Newark\, NJ\, 07105\, United States
CATEGORIES:OSHA Classes
END:VEVENT
BEGIN:VEVENT
DTSTART;TZID=America/Halifax:20220220T100000
DTEND;TZID=America/Halifax:20220220T150000
DTSTAMP:20260425T192158
CREATED:20220121T173640Z
LAST-MODIFIED:20220121T173722Z
UID:10000111-1645351200-1645369200@cstraining.org
SUMMARY:Forklift Rough Terrain (Spanish/English)
DESCRIPTION:
URL:https://cstraining.org/event/forklift-rough-terrain-spanish-english-13/
LOCATION:CSTraining\, 238 Ferry St.\, Newark\, NJ\, 07105\, United States
CATEGORIES:Forklift Training
END:VEVENT
BEGIN:VEVENT
DTSTART;TZID=America/Halifax:20220220T080000
DTEND;TZID=America/Halifax:20220220T180000
DTSTAMP:20260425T192158
CREATED:20211110T173914Z
LAST-MODIFIED:20220215T222636Z
UID:10000106-1645344000-1645380000@cstraining.org
SUMMARY:SST 10hr Class (In Spanish)
DESCRIPTION:
URL:https://cstraining.org/event/sst-10hr-class-in-spanish-21/
LOCATION:CSTraining\, 238 Ferry St.\, Newark\, NJ\, 07105\, United States
CATEGORIES:OSHA Classes
END:VEVENT
BEGIN:VEVENT
DTSTART;TZID=America/Halifax:20220123T100000
DTEND;TZID=America/Halifax:20220123T150000
DTSTAMP:20260425T192158
CREATED:20211228T014929Z
LAST-MODIFIED:20211228T014929Z
UID:10000110-1642932000-1642950000@cstraining.org
SUMMARY:Forklift Rough Terrain (Spanish/English)
DESCRIPTION:
URL:https://cstraining.org/event/forklift-rough-terrain-spanish-english-12/
LOCATION:CSTraining\, 238 Ferry St.\, Newark\, NJ\, 07105\, United States
CATEGORIES:Forklift Training
END:VEVENT
BEGIN:VEVENT
DTSTART;TZID=America/Halifax:20220114T180000
DTEND;TZID=America/Halifax:20220114T220000
DTSTAMP:20260425T192158
CREATED:20211129T061740Z
LAST-MODIFIED:20220108T200921Z
UID:10000109-1642183200-1642197600@cstraining.org
SUMMARY:Scaffolds 4hr Class
DESCRIPTION:
URL:https://cstraining.org/event/scaffolds-4hr-class-9/
LOCATION:CSTraining\, 238 Ferry St.\, Newark\, NJ\, 07105\, United States
CATEGORIES:Scaffolds
END:VEVENT
BEGIN:VEVENT
DTSTART;TZID=America/Halifax:20211219T100000
DTEND;TZID=America/Halifax:20211219T150000
DTSTAMP:20260425T192158
CREATED:20211129T060516Z
LAST-MODIFIED:20211129T060516Z
UID:10000107-1639908000-1639926000@cstraining.org
SUMMARY:Forklift Rough Terrain (Spanish/English)
DESCRIPTION:
URL:https://cstraining.org/event/forklift-rough-terrain-spanish-english-11/
LOCATION:CSTraining\, 238 Ferry St.\, Newark\, NJ\, 07105\, United States
CATEGORIES:Forklift Training
END:VEVENT
BEGIN:VEVENT
DTSTART;TZID=America/Halifax:20211218T080000
DTEND;TZID=America/Halifax:20211218T160000
DTSTAMP:20260425T192158
CREATED:20211129T061106Z
LAST-MODIFIED:20211213T031536Z
UID:10000108-1639814400-1639843200@cstraining.org
SUMMARY:Introduction to Blueprint Reading class
DESCRIPTION:
URL:https://cstraining.org/event/introduction-to-blueprint-reading-class-5/
LOCATION:CSTraining\, 238 Ferry St.\, Newark\, NJ\, 07105\, United States
CATEGORIES:Blueprint Reading
END:VEVENT
BEGIN:VEVENT
DTSTART;TZID=America/Halifax:20211121T100000
DTEND;TZID=America/Halifax:20211121T150000
DTSTAMP:20260425T192158
CREATED:20211014T151520Z
LAST-MODIFIED:20211014T151607Z
UID:10000094-1637488800-1637506800@cstraining.org
SUMMARY:Forklift Rough Terrain (Spanish/English)
DESCRIPTION:
URL:https://cstraining.org/event/forklift-rough-terrain-spanish-english-10/
LOCATION:CSTraining\, 238 Ferry St.\, Newark\, NJ\, 07105\, United States
CATEGORIES:Forklift Training
END:VEVENT
BEGIN:VEVENT
DTSTART;TZID=America/Halifax:20211120T080000
DTEND;TZID=America/Halifax:20211120T150000
DTSTAMP:20260425T192158
CREATED:20211014T152819Z
LAST-MODIFIED:20211014T152819Z
UID:10000096-1637395200-1637420400@cstraining.org
SUMMARY:Introduction to Blueprint Reading class
DESCRIPTION:
URL:https://cstraining.org/event/introduction-to-blueprint-reading-class-4/
LOCATION:CSTraining\, 238 Ferry St.\, Newark\, NJ\, 07105\, United States
CATEGORIES:Blueprint Reading
END:VEVENT
BEGIN:VEVENT
DTSTART;TZID=America/Halifax:20211118T180000
DTEND;TZID=America/Halifax:20211118T220000
DTSTAMP:20260425T192158
CREATED:20211014T152410Z
LAST-MODIFIED:20211014T152410Z
UID:10000095-1637258400-1637272800@cstraining.org
SUMMARY:Scaffolds 4hr Class
DESCRIPTION:
URL:https://cstraining.org/event/scaffolds-4hr-class-8/
LOCATION:CSTraining\, 238 Ferry St.\, Newark\, NJ\, 07105\, United States
CATEGORIES:Scaffolds
END:VEVENT
BEGIN:VEVENT
DTSTART;TZID=America/Halifax:20211104T090000
DTEND;TZID=America/Halifax:20211104T170000
DTSTAMP:20260425T192158
CREATED:20211029T211606Z
LAST-MODIFIED:20211029T212328Z
UID:10000104-1636016400-1636045200@cstraining.org
SUMMARY:OSHA-30 Class (Via Zoom)
DESCRIPTION:This will be a 4 day class starting at 9:00 am EDT and ending at 5:00 pm EDT. There will be a 1hr break for lunch. The link for this course will be provided after registering for the class.
URL:https://cstraining.org/event/osha-30-sst-10hr-class-via-zoom/2021-11-04/
LOCATION:CSTraining\, 238 Ferry St.\, Newark\, NJ\, 07105\, United States
CATEGORIES:OSHA Classes
END:VEVENT
BEGIN:VEVENT
DTSTART;TZID=America/Halifax:20211103T090000
DTEND;TZID=America/Halifax:20211103T170000
DTSTAMP:20260425T192159
CREATED:20211029T211606Z
LAST-MODIFIED:20211029T212328Z
UID:10000103-1635930000-1635958800@cstraining.org
SUMMARY:OSHA-30 Class (Via Zoom)
DESCRIPTION:This will be a 4 day class starting at 9:00 am EDT and ending at 5:00 pm EDT. There will be a 1hr break for lunch. The link for this course will be provided after registering for the class.
URL:https://cstraining.org/event/osha-30-sst-10hr-class-via-zoom/2021-11-03/
LOCATION:CSTraining\, 238 Ferry St.\, Newark\, NJ\, 07105\, United States
CATEGORIES:OSHA Classes
END:VEVENT
BEGIN:VEVENT
DTSTART;TZID=America/Halifax:20211102T090000
DTEND;TZID=America/Halifax:20211102T170000
DTSTAMP:20260425T192159
CREATED:20211029T211606Z
LAST-MODIFIED:20211029T212328Z
UID:10000102-1635843600-1635872400@cstraining.org
SUMMARY:OSHA-30 Class (Via Zoom)
DESCRIPTION:This will be a 4 day class starting at 9:00 am EDT and ending at 5:00 pm EDT. There will be a 1hr break for lunch. The link for this course will be provided after registering for the class.
URL:https://cstraining.org/event/osha-30-sst-10hr-class-via-zoom/2021-11-02/
LOCATION:CSTraining\, 238 Ferry St.\, Newark\, NJ\, 07105\, United States
CATEGORIES:OSHA Classes
END:VEVENT
BEGIN:VEVENT
DTSTART;TZID=America/Halifax:20211101T090000
DTEND;TZID=America/Halifax:20211101T170000
DTSTAMP:20260425T192159
CREATED:20211029T211606Z
LAST-MODIFIED:20211029T212328Z
UID:10000101-1635757200-1635786000@cstraining.org
SUMMARY:OSHA-30 Class (Via Zoom)
DESCRIPTION:This will be a 4 day class starting at 9:00 am EDT and ending at 5:00 pm EDT. There will be a 1hr break for lunch. The link for this course will be provided after registering for the class.
URL:https://cstraining.org/event/osha-30-sst-10hr-class-via-zoom/2021-11-01/
LOCATION:CSTraining\, 238 Ferry St.\, Newark\, NJ\, 07105\, United States
CATEGORIES:OSHA Classes
END:VEVENT
END:VCALENDAR