BEGIN:VCALENDAR
VERSION:2.0
PRODID:-//cstraining - ECPv6.15.3//NONSGML v1.0//EN
CALSCALE:GREGORIAN
METHOD:PUBLISH
X-ORIGINAL-URL:https://cstraining.org
X-WR-CALDESC:Events for cstraining
REFRESH-INTERVAL;VALUE=DURATION:PT1H
X-Robots-Tag:noindex
X-PUBLISHED-TTL:PT1H
BEGIN:VTIMEZONE
TZID:America/Halifax
BEGIN:DAYLIGHT
TZOFFSETFROM:-0400
TZOFFSETTO:-0300
TZNAME:ADT
DTSTART:20220313T060000
END:DAYLIGHT
BEGIN:STANDARD
TZOFFSETFROM:-0300
TZOFFSETTO:-0400
TZNAME:AST
DTSTART:20221106T050000
END:STANDARD
BEGIN:DAYLIGHT
TZOFFSETFROM:-0400
TZOFFSETTO:-0300
TZNAME:ADT
DTSTART:20230312T060000
END:DAYLIGHT
BEGIN:STANDARD
TZOFFSETFROM:-0300
TZOFFSETTO:-0400
TZNAME:AST
DTSTART:20231105T050000
END:STANDARD
BEGIN:DAYLIGHT
TZOFFSETFROM:-0400
TZOFFSETTO:-0300
TZNAME:ADT
DTSTART:20240310T060000
END:DAYLIGHT
BEGIN:STANDARD
TZOFFSETFROM:-0300
TZOFFSETTO:-0400
TZNAME:AST
DTSTART:20241103T050000
END:STANDARD
BEGIN:DAYLIGHT
TZOFFSETFROM:-0400
TZOFFSETTO:-0300
TZNAME:ADT
DTSTART:20250309T060000
END:DAYLIGHT
BEGIN:STANDARD
TZOFFSETFROM:-0300
TZOFFSETTO:-0400
TZNAME:AST
DTSTART:20251102T050000
END:STANDARD
END:VTIMEZONE
BEGIN:VEVENT
DTSTART;TZID=America/Halifax:20250910T090000
DTEND;TZID=America/Halifax:20250910T173000
DTSTAMP:20260423T170648
CREATED:20250910T221357Z
LAST-MODIFIED:20251211T233203Z
UID:10000552-1757494800-1757525400@cstraining.org
SUMMARY:OSHA 30 class (September 9th thru 12th)
DESCRIPTION:Event description:\nThis is a 30 hour training course in Construction standards and was created by OSHA\, who authorizes certain OSHA Outreach trainers to conduct this 30-hour training class for a group of trainees. For this reason\, we are presenting this as part of our program in a classroom environment. Upon completion of the OSHA 30 course\, a student will receive a personalized certificate for the course\, plus the official DOL / OSHA 30 hour Construction course wallet card which are accepted nationwide. \nLearner prerequisites: \n– None \nIACET CEUs: \n– 30 IACET CEUs \n  \nMandatory attendance requirements: \n– All students must attend all of the scheduled classes in order to successfully complete this course. \n– Shall a student miss a class\, we will allow up to two make up classes. \n– A final examination will be provided and the students must obtain at least a 70% passing score to pass this course. \n  \nLearner support contact information: \n– Email: cstadmin@cstraining.org\n– Phone Number: 973-344-3600 \n  \nLearning outcomes: \nOSHA-30 \n \nAnti-discrimination policy \nIntellectual and legal property policy \nIntellectual and legal property policy-2 \nProprietary interest policy \n  \nCST LLC provides full learner support during the OSHA-30 Construction course.\n \nDuring the learning event\, learners may access: \nInstructional Support\n\nOSHA-Authorized Trainers available during all instructional hours to answer questions\, clarify content\, and provide learning assistance.\n\nAdministrative Support\n\nCST administrative staff available by phone at 973-344-3600 or email at cstadmin@cstraining.org for attendance\, registration\, or course logistics.\n\nTechnology Support\n\nAssistance with digital materials\, email access\, certificates\, and OSHA documentation is available through CST’s Technical Support Team at oscar@cstraining.org.\n\nAccess to Resources\nAll required class materials (handouts\, digital files\, equipment\, audiovisual resources) will be provided by CST LLC and available during the course. \nAccommodations\nLearners needing disability-related accommodations may contact cstadmin@cstraining.org at any time before or during the course.
URL:https://cstraining.org/event/osha-30-class-september-9th-thru-12th-2/2025-09-10/
LOCATION:CSTraining\, 238 Ferry St.\, Newark\, NJ\, 07105\, United States
CATEGORIES:OSHA Classes
ATTACH;FMTTYPE=image/png:https://cstraining.org/wp-content/uploads/2020/02/OSHA-30-Hour-Construction-e1582249777392.png
END:VEVENT
BEGIN:VEVENT
DTSTART;TZID=America/Halifax:20250910T090000
DTEND;TZID=America/Halifax:20250910T173000
DTSTAMP:20260423T170648
CREATED:20250910T220915Z
LAST-MODIFIED:20250910T221201Z
UID:10000184-1757494800-1757525400@cstraining.org
SUMMARY:OSHA 30 class (September 9th thru 12th)
DESCRIPTION:Event description:\nThis is a 30 hour training course in Construction standards and was created by OSHA\, who authorizes certain OSHA Outreach trainers to conduct this 30-hour training class for a group of trainees. For this reason\, we are presenting this as part of our program in a classroom environment. Upon completion of the OSHA 30 course\, a student will receive a personalized certificate for the course\, plus the official DOL / OSHA 30 hour Construction course wallet card which are accepted nationwide. \nLearner prerequisites: \n– None \nIACET CEUs: \n– 30 IACET CEUs \n  \nMandatory attendance requirements: \n– All students must attend all of the scheduled classes in order to successfully complete this course. \n– Shall a student miss a class\, we will allow up to two make up classes. \n– A final examination will be provided and the students must obtain at least a 70% passing score to pass this course. \n  \nLearner support contact information: \n– Email: cstadmin@cstraining.org\n– Phone Number: 973-344-3600 \n  \nLearning outcomes: \nOSHA-30 \n \nAnti-discrimination policy: \n\nhttps://docs.google.com/document/d/1hVXbu9IsUsBmCp2a_NW97kpBkBxha_4N/edit\n\nIntellectual and legal property policy: \n\nhttps://docs.google.com/document/d/1Sr4LTnhOIZkulkoWUtM13Iu3eX-_vNFY/edit\nhttps://docs.google.com/document/d/1r6Eu2kdEo1kF67zhmoE08uMgJXMHPRV7/edit\n\nProprietary interest policy: \nhttps://docs.google.com/document/d/1r6Eu2kdEo1kF67zhmoE08uMgJXMHPRV7/edit
URL:https://cstraining.org/event/osha-30-class-september-9th-thru-12th/2025-09-10/
LOCATION:CSTraining\, 238 Ferry St.\, Newark\, NJ\, 07105\, United States
CATEGORIES:OSHA Classes
ATTACH;FMTTYPE=image/png:https://cstraining.org/wp-content/uploads/2020/02/OSHA-30-Hour-Construction-e1582249777392.png
END:VEVENT
BEGIN:VEVENT
DTSTART;TZID=America/Halifax:20250909T090000
DTEND;TZID=America/Halifax:20250909T173000
DTSTAMP:20260423T170648
CREATED:20250910T221357Z
LAST-MODIFIED:20251211T233203Z
UID:10000185-1757408400-1757439000@cstraining.org
SUMMARY:OSHA 30 class (September 9th thru 12th)
DESCRIPTION:Event description:\nThis is a 30 hour training course in Construction standards and was created by OSHA\, who authorizes certain OSHA Outreach trainers to conduct this 30-hour training class for a group of trainees. For this reason\, we are presenting this as part of our program in a classroom environment. Upon completion of the OSHA 30 course\, a student will receive a personalized certificate for the course\, plus the official DOL / OSHA 30 hour Construction course wallet card which are accepted nationwide. \nLearner prerequisites: \n– None \nIACET CEUs: \n– 30 IACET CEUs \n  \nMandatory attendance requirements: \n– All students must attend all of the scheduled classes in order to successfully complete this course. \n– Shall a student miss a class\, we will allow up to two make up classes. \n– A final examination will be provided and the students must obtain at least a 70% passing score to pass this course. \n  \nLearner support contact information: \n– Email: cstadmin@cstraining.org\n– Phone Number: 973-344-3600 \n  \nLearning outcomes: \nOSHA-30 \n \nAnti-discrimination policy \nIntellectual and legal property policy \nIntellectual and legal property policy-2 \nProprietary interest policy \n  \nCST LLC provides full learner support during the OSHA-30 Construction course.\n \nDuring the learning event\, learners may access: \nInstructional Support\n\nOSHA-Authorized Trainers available during all instructional hours to answer questions\, clarify content\, and provide learning assistance.\n\nAdministrative Support\n\nCST administrative staff available by phone at 973-344-3600 or email at cstadmin@cstraining.org for attendance\, registration\, or course logistics.\n\nTechnology Support\n\nAssistance with digital materials\, email access\, certificates\, and OSHA documentation is available through CST’s Technical Support Team at oscar@cstraining.org.\n\nAccess to Resources\nAll required class materials (handouts\, digital files\, equipment\, audiovisual resources) will be provided by CST LLC and available during the course. \nAccommodations\nLearners needing disability-related accommodations may contact cstadmin@cstraining.org at any time before or during the course.
URL:https://cstraining.org/event/osha-30-class-september-9th-thru-12th-2/2025-09-09/
LOCATION:CSTraining\, 238 Ferry St.\, Newark\, NJ\, 07105\, United States
CATEGORIES:OSHA Classes
ATTACH;FMTTYPE=image/png:https://cstraining.org/wp-content/uploads/2020/02/OSHA-30-Hour-Construction-e1582249777392.png
END:VEVENT
BEGIN:VEVENT
DTSTART;TZID=America/Halifax:20250909T090000
DTEND;TZID=America/Halifax:20250909T173000
DTSTAMP:20260423T170648
CREATED:20250910T220915Z
LAST-MODIFIED:20250910T221201Z
UID:10000183-1757408400-1757439000@cstraining.org
SUMMARY:OSHA 30 class (September 9th thru 12th)
DESCRIPTION:Event description:\nThis is a 30 hour training course in Construction standards and was created by OSHA\, who authorizes certain OSHA Outreach trainers to conduct this 30-hour training class for a group of trainees. For this reason\, we are presenting this as part of our program in a classroom environment. Upon completion of the OSHA 30 course\, a student will receive a personalized certificate for the course\, plus the official DOL / OSHA 30 hour Construction course wallet card which are accepted nationwide. \nLearner prerequisites: \n– None \nIACET CEUs: \n– 30 IACET CEUs \n  \nMandatory attendance requirements: \n– All students must attend all of the scheduled classes in order to successfully complete this course. \n– Shall a student miss a class\, we will allow up to two make up classes. \n– A final examination will be provided and the students must obtain at least a 70% passing score to pass this course. \n  \nLearner support contact information: \n– Email: cstadmin@cstraining.org\n– Phone Number: 973-344-3600 \n  \nLearning outcomes: \nOSHA-30 \n \nAnti-discrimination policy: \n\nhttps://docs.google.com/document/d/1hVXbu9IsUsBmCp2a_NW97kpBkBxha_4N/edit\n\nIntellectual and legal property policy: \n\nhttps://docs.google.com/document/d/1Sr4LTnhOIZkulkoWUtM13Iu3eX-_vNFY/edit\nhttps://docs.google.com/document/d/1r6Eu2kdEo1kF67zhmoE08uMgJXMHPRV7/edit\n\nProprietary interest policy: \nhttps://docs.google.com/document/d/1r6Eu2kdEo1kF67zhmoE08uMgJXMHPRV7/edit
URL:https://cstraining.org/event/osha-30-class-september-9th-thru-12th/2025-09-09/
LOCATION:CSTraining\, 238 Ferry St.\, Newark\, NJ\, 07105\, United States
CATEGORIES:OSHA Classes
ATTACH;FMTTYPE=image/png:https://cstraining.org/wp-content/uploads/2020/02/OSHA-30-Hour-Construction-e1582249777392.png
END:VEVENT
BEGIN:VEVENT
DTSTART;TZID=America/Halifax:20240824T130000
DTEND;TZID=America/Halifax:20240824T180000
DTSTAMP:20260423T170648
CREATED:20240304T034034Z
LAST-MODIFIED:20240821T211832Z
UID:10000149-1724504400-1724522400@cstraining.org
SUMMARY:Scissor Lift (Spanish/English)
DESCRIPTION:
URL:https://cstraining.org/event/scissor-lift/
LOCATION:CSTraining\, 238 Ferry St.\, Newark\, NJ\, 07105\, United States
CATEGORIES:Scissor Lift Training
ATTACH;FMTTYPE=image/jpeg:https://cstraining.org/wp-content/uploads/2024/02/R.jpg
END:VEVENT
BEGIN:VEVENT
DTSTART;TZID=America/Halifax:20240222T180000
DTEND;TZID=America/Halifax:20240222T220000
DTSTAMP:20260423T170648
CREATED:20221020T182500Z
LAST-MODIFIED:20240218T224417Z
UID:10000127-1708624800-1708639200@cstraining.org
SUMMARY:Scaffold 4hr Training
DESCRIPTION:
URL:https://cstraining.org/event/scaffold-4hr-training-4/
LOCATION:CSTraining\, 238 Ferry St.\, Newark\, NJ\, 07105\, United States
CATEGORIES:Scaffolds
END:VEVENT
BEGIN:VEVENT
DTSTART;TZID=America/Halifax:20240210T130000
DTEND;TZID=America/Halifax:20240210T180000
DTSTAMP:20260423T170648
CREATED:20240207T031001Z
LAST-MODIFIED:20240207T031407Z
UID:10000148-1707570000-1707588000@cstraining.org
SUMMARY:Forklift Class Spanish/English
DESCRIPTION:This class is for the Industrial type (HIGH/LOW) forklift only.
URL:https://cstraining.org/event/forklift-class-spanish-english-11/
LOCATION:CSTraining\, 238 Ferry St.\, Newark\, NJ\, 07105\, United States
CATEGORIES:Forklift Training
ATTACH;FMTTYPE=image/png:https://cstraining.org/wp-content/uploads/2020/07/forklift-operator-cover-big-500x358-1.png
END:VEVENT
BEGIN:VEVENT
DTSTART;TZID=America/Halifax:20240119T180000
DTEND;TZID=America/Halifax:20240119T220000
DTSTAMP:20260423T170648
CREATED:20230205T042305Z
LAST-MODIFIED:20240115T010126Z
UID:10000132-1705687200-1705701600@cstraining.org
SUMMARY:Scaffold 4hr Training
DESCRIPTION:
URL:https://cstraining.org/event/scaffold-4hr-training-5/
LOCATION:CSTraining\, 238 Ferry St.\, Newark\, NJ\, 07105\, United States
CATEGORIES:Scaffolds
END:VEVENT
BEGIN:VEVENT
DTSTART;TZID=America/Halifax:20231202T130000
DTEND;TZID=America/Halifax:20231202T180000
DTSTAMP:20260423T170648
CREATED:20230729T161648Z
LAST-MODIFIED:20231118T000125Z
UID:10000142-1701522000-1701540000@cstraining.org
SUMMARY:Forklift Class (Spanish/English)
DESCRIPTION:
URL:https://cstraining.org/event/forklift-class-spanish-english-6/
LOCATION:CSTraining\, 238 Ferry St.\, Newark\, NJ\, 07105\, United States
CATEGORIES:Forklift Training
ATTACH;FMTTYPE=image/png:https://cstraining.org/wp-content/uploads/2020/07/original-46-115-c-250-h.png
END:VEVENT
BEGIN:VEVENT
DTSTART;TZID=America/Halifax:20231202T080000
DTEND;TZID=America/Halifax:20231202T160000
DTSTAMP:20260423T170648
CREATED:20231127T031534Z
LAST-MODIFIED:20231127T033951Z
UID:10000146-1701504000-1701532800@cstraining.org
SUMMARY:Blueprint Reading Class
DESCRIPTION:
URL:https://cstraining.org/event/blueprint-reading-class-13/
LOCATION:CSTraining\, 238 Ferry St.\, Newark\, NJ\, 07105\, United States
CATEGORIES:Blueprint Reading
END:VEVENT
BEGIN:VEVENT
DTSTART;TZID=America/Halifax:20231118T130000
DTEND;TZID=America/Halifax:20231118T180000
DTSTAMP:20260423T170648
CREATED:20231103T192534Z
LAST-MODIFIED:20231116T144710Z
UID:10000145-1700312400-1700330400@cstraining.org
SUMMARY:Forklift Class (Spanish/English)
DESCRIPTION:
URL:https://cstraining.org/event/forklift-class-spanish-english-9/
LOCATION:CSTraining\, 238 Ferry St.\, Newark\, NJ\, 07105\, United States
CATEGORIES:Forklift Training
END:VEVENT
BEGIN:VEVENT
DTSTART;TZID=America/Halifax:20231014T130000
DTEND;TZID=America/Halifax:20231014T180000
DTSTAMP:20260423T170648
CREATED:20230928T030001Z
LAST-MODIFIED:20230928T030001Z
UID:10000144-1697288400-1697306400@cstraining.org
SUMMARY:Forklift Class (Spanish/English)
DESCRIPTION:
URL:https://cstraining.org/event/forklift-class-spanish-english-8/
LOCATION:CSTraining\, 238 Ferry St.\, Newark\, NJ\, 07105\, United States
CATEGORIES:Forklift Training
END:VEVENT
BEGIN:VEVENT
DTSTART;TZID=America/Halifax:20230916T130000
DTEND;TZID=America/Halifax:20231019T180000
DTSTAMP:20260423T170648
CREATED:20230815T030113Z
LAST-MODIFIED:20230815T030113Z
UID:10000143-1694869200-1697738400@cstraining.org
SUMMARY:Forklift Class (Spanish/English)
DESCRIPTION:
URL:https://cstraining.org/event/forklift-class-spanish-english-7/
LOCATION:CSTraining\, 238 Ferry St.\, Newark\, NJ\, 07105\, United States
CATEGORIES:Forklift Training
END:VEVENT
BEGIN:VEVENT
DTSTART;TZID=America/Halifax:20230902T080000
DTEND;TZID=America/Halifax:20231021T160000
DTSTAMP:20260423T170648
CREATED:20230623T005724Z
LAST-MODIFIED:20230928T030228Z
UID:10000141-1693641600-1697904000@cstraining.org
SUMMARY:Blueprint Reading Class
DESCRIPTION:
URL:https://cstraining.org/event/blueprint-reading-class-12/
LOCATION:CSTraining\, 238 Ferry St.\, Newark\, NJ\, 07105\, United States
CATEGORIES:Blueprint Reading
END:VEVENT
BEGIN:VEVENT
DTSTART;TZID=America/Halifax:20230715T130000
DTEND;TZID=America/Halifax:20230715T180000
DTSTAMP:20260423T170648
CREATED:20230516T213049Z
LAST-MODIFIED:20230622T232823Z
UID:10000139-1689426000-1689444000@cstraining.org
SUMMARY:Forklift Class (Spanish/English)
DESCRIPTION:
URL:https://cstraining.org/event/forklift-class-spanish-english-5/
LOCATION:CSTraining\, 238 Ferry St.\, Newark\, NJ\, 07105\, United States
CATEGORIES:Forklift Training
END:VEVENT
BEGIN:VEVENT
DTSTART;TZID=America/Halifax:20230610T080000
DTEND;TZID=America/Halifax:20230610T160000
DTSTAMP:20260423T170648
CREATED:20230601T232102Z
LAST-MODIFIED:20230601T232102Z
UID:10000140-1686384000-1686412800@cstraining.org
SUMMARY:Blueprint Reading Class
DESCRIPTION:
URL:https://cstraining.org/event/blueprint-reading-class-11/
LOCATION:CSTraining\, 238 Ferry St.\, Newark\, NJ\, 07105\, United States
CATEGORIES:Blueprint Reading
END:VEVENT
BEGIN:VEVENT
DTSTART;TZID=America/Halifax:20230513T130000
DTEND;TZID=America/Halifax:20230513T180000
DTSTAMP:20260423T170648
CREATED:20230422T014443Z
LAST-MODIFIED:20230422T014443Z
UID:10000137-1683982800-1684000800@cstraining.org
SUMMARY:Forklift Class (Spanish/English)
DESCRIPTION:
URL:https://cstraining.org/event/forklift-class-spanish-english-4/
LOCATION:CSTraining\, 238 Ferry St.\, Newark\, NJ\, 07105\, United States
CATEGORIES:Forklift Training
END:VEVENT
BEGIN:VEVENT
DTSTART;TZID=America/Halifax:20230513T080000
DTEND;TZID=America/Halifax:20230513T160000
DTSTAMP:20260423T170648
CREATED:20230422T014946Z
LAST-MODIFIED:20230422T014946Z
UID:10000138-1683964800-1683993600@cstraining.org
SUMMARY:Blueprint Reading Class
DESCRIPTION:
URL:https://cstraining.org/event/blueprint-reading-class-10/
LOCATION:CSTraining\, 238 Ferry St.\, Newark\, NJ\, 07105\, United States
CATEGORIES:Blueprint Reading
END:VEVENT
BEGIN:VEVENT
DTSTART;TZID=America/Halifax:20230415T130000
DTEND;TZID=America/Halifax:20230415T180000
DTSTAMP:20260423T170648
CREATED:20230331T002754Z
LAST-MODIFIED:20230331T002754Z
UID:10000136-1681563600-1681581600@cstraining.org
SUMMARY:Forklift Class (Spanish/English)
DESCRIPTION:
URL:https://cstraining.org/event/forklift-class-spanish-english-3/
LOCATION:CSTraining\, 238 Ferry St.\, Newark\, NJ\, 07105\, United States
CATEGORIES:Forklift Training
END:VEVENT
BEGIN:VEVENT
DTSTART;TZID=America/Halifax:20230401T080000
DTEND;TZID=America/Halifax:20230401T160000
DTSTAMP:20260423T170648
CREATED:20230305T021905Z
LAST-MODIFIED:20230331T001413Z
UID:10000135-1680336000-1680364800@cstraining.org
SUMMARY:Blueprint Reading Class
DESCRIPTION:
URL:https://cstraining.org/event/blueprint-reading-class-9/
LOCATION:CSTraining\, 238 Ferry St.\, Newark\, NJ\, 07105\, United States
CATEGORIES:Blueprint Reading
END:VEVENT
BEGIN:VEVENT
DTSTART;TZID=America/Halifax:20230318T130000
DTEND;TZID=America/Halifax:20230318T180000
DTSTAMP:20260423T170648
CREATED:20230305T021103Z
LAST-MODIFIED:20230305T021623Z
UID:10000134-1679144400-1679162400@cstraining.org
SUMMARY:Forklift Class (Spanish/English)
DESCRIPTION:
URL:https://cstraining.org/event/forklift-class-spanish-english-2/
LOCATION:CSTraining\, 238 Ferry St.\, Newark\, NJ\, 07105\, United States
CATEGORIES:Forklift Training
END:VEVENT
BEGIN:VEVENT
DTSTART;TZID=America/Halifax:20230225T080000
DTEND;TZID=America/Halifax:20230225T160000
DTSTAMP:20260423T170648
CREATED:20230205T042632Z
LAST-MODIFIED:20230205T042830Z
UID:10000133-1677312000-1677340800@cstraining.org
SUMMARY:Blueprint Reading Class
DESCRIPTION:
URL:https://cstraining.org/event/blueprint-reading-class-8/
LOCATION:CSTraining\, 238 Ferry St.\, Newark\, NJ\, 07105\, United States
CATEGORIES:Blueprint Reading
END:VEVENT
BEGIN:VEVENT
DTSTART;TZID=America/Halifax:20230218T130000
DTEND;TZID=America/Halifax:20230218T180000
DTSTAMP:20260423T170648
CREATED:20221118T145803Z
LAST-MODIFIED:20230305T021435Z
UID:10000130-1676725200-1676743200@cstraining.org
SUMMARY:Forklift Class (Spanish/English)
DESCRIPTION:
URL:https://cstraining.org/event/forklift-class-spanish-english/
LOCATION:CSTraining\, 238 Ferry St.\, Newark\, NJ\, 07105\, United States
CATEGORIES:Forklift Training
END:VEVENT
BEGIN:VEVENT
DTSTART;TZID=America/Halifax:20230127T180000
DTEND;TZID=America/Halifax:20230127T220000
DTSTAMP:20260423T170648
CREATED:20220929T043907Z
LAST-MODIFIED:20230106T002310Z
UID:10000124-1674842400-1674856800@cstraining.org
SUMMARY:Flagger Course Training Class in Spanish
DESCRIPTION:
URL:https://cstraining.org/event/flagger-course-training-class-in-spanish/
LOCATION:CSTraining\, 238 Ferry St.\, Newark\, NJ\, 07105\, United States
CATEGORIES:Flagger
END:VEVENT
BEGIN:VEVENT
DTSTART;TZID=America/Halifax:20221217T080000
DTEND;TZID=America/Halifax:20221217T160000
DTSTAMP:20260423T170648
CREATED:20221206T170142Z
LAST-MODIFIED:20221206T170534Z
UID:10000131-1671264000-1671292800@cstraining.org
SUMMARY:Blueprint Reading Class
DESCRIPTION:
URL:https://cstraining.org/event/blueprint-reading-class-7/
LOCATION:CSTraining\, 238 Ferry St.\, Newark\, NJ\, 07105\, United States
CATEGORIES:Blueprint Reading
END:VEVENT
BEGIN:VEVENT
DTSTART;TZID=America/Halifax:20221119T080000
DTEND;TZID=America/Halifax:20221119T160000
DTSTAMP:20260423T170648
CREATED:20221028T122231Z
LAST-MODIFIED:20221028T122231Z
UID:10000129-1668844800-1668873600@cstraining.org
SUMMARY:Blueprint Reading Class
DESCRIPTION:
URL:https://cstraining.org/event/blueprint-reading-class-6/
LOCATION:CSTraining\, 238 Ferry St.\, Newark\, NJ\, 07105\, United States
CATEGORIES:Blueprint Reading
END:VEVENT
BEGIN:VEVENT
DTSTART;TZID=America/Halifax:20221113T100000
DTEND;TZID=America/Halifax:20221113T150000
DTSTAMP:20260423T170648
CREATED:20221020T191650Z
LAST-MODIFIED:20221109T213803Z
UID:10000128-1668333600-1668351600@cstraining.org
SUMMARY:Forklift Rough Terrain (Spanish/English)
DESCRIPTION:
URL:https://cstraining.org/event/forklift-rough-terrain-spanish-english-22/
LOCATION:CSTraining\, 238 Ferry St.\, Newark\, NJ\, 07105\, United States
CATEGORIES:Forklift Training
END:VEVENT
BEGIN:VEVENT
DTSTART;TZID=America/Halifax:20221016T100000
DTEND;TZID=America/Halifax:20221016T150000
DTSTAMP:20260423T170648
CREATED:20220913T033655Z
LAST-MODIFIED:20220913T033655Z
UID:10000123-1665914400-1665932400@cstraining.org
SUMMARY:Forklift Rough Terrain (Spanish/English)
DESCRIPTION:
URL:https://cstraining.org/event/forklift-rough-terrain-spanish-english-21/
LOCATION:CSTraining\, 238 Ferry St.\, Newark\, NJ\, 07105\, United States
CATEGORIES:Forklift Training
END:VEVENT
BEGIN:VEVENT
DTSTART;TZID=America/Halifax:20221011T170000
DTEND;TZID=America/Halifax:20221011T210000
DTSTAMP:20260423T170648
CREATED:20220929T044908Z
LAST-MODIFIED:20220929T044908Z
UID:10000126-1665507600-1665522000@cstraining.org
SUMMARY:Blueprint Reading Class
DESCRIPTION:
URL:https://cstraining.org/event/blueprint-reading-class-5/2022-10-11/
LOCATION:CSTraining\, 238 Ferry St.\, Newark\, NJ\, 07105\, United States
CATEGORIES:Blueprint Reading
END:VEVENT
BEGIN:VEVENT
DTSTART;TZID=America/Halifax:20221010T170000
DTEND;TZID=America/Halifax:20221010T210000
DTSTAMP:20260423T170648
CREATED:20220929T044908Z
LAST-MODIFIED:20220929T044908Z
UID:10000125-1665421200-1665435600@cstraining.org
SUMMARY:Blueprint Reading Class
DESCRIPTION:
URL:https://cstraining.org/event/blueprint-reading-class-5/2022-10-10/
LOCATION:CSTraining\, 238 Ferry St.\, Newark\, NJ\, 07105\, United States
CATEGORIES:Blueprint Reading
END:VEVENT
END:VCALENDAR